BEGIN:VCALENDAR
VERSION:2.0
PRODID:-//Vaal Meander - ECPv6.15.20//NONSGML v1.0//EN
CALSCALE:GREGORIAN
METHOD:PUBLISH
X-WR-CALNAME:Vaal Meander
X-ORIGINAL-URL:https://vaalmeander.co.za
X-WR-CALDESC:Events for Vaal Meander
REFRESH-INTERVAL;VALUE=DURATION:PT1H
X-Robots-Tag:noindex
X-PUBLISHED-TTL:PT1H
BEGIN:VTIMEZONE
TZID:Europe/Helsinki
BEGIN:DAYLIGHT
TZOFFSETFROM:+0200
TZOFFSETTO:+0300
TZNAME:EEST
DTSTART:20250330T010000
END:DAYLIGHT
BEGIN:STANDARD
TZOFFSETFROM:+0300
TZOFFSETTO:+0200
TZNAME:EET
DTSTART:20251026T010000
END:STANDARD
BEGIN:DAYLIGHT
TZOFFSETFROM:+0200
TZOFFSETTO:+0300
TZNAME:EEST
DTSTART:20260329T010000
END:DAYLIGHT
BEGIN:STANDARD
TZOFFSETFROM:+0300
TZOFFSETTO:+0200
TZNAME:EET
DTSTART:20261025T010000
END:STANDARD
BEGIN:DAYLIGHT
TZOFFSETFROM:+0200
TZOFFSETTO:+0300
TZNAME:EEST
DTSTART:20270328T010000
END:DAYLIGHT
BEGIN:STANDARD
TZOFFSETFROM:+0300
TZOFFSETTO:+0200
TZNAME:EET
DTSTART:20271031T010000
END:STANDARD
END:VTIMEZONE
BEGIN:VEVENT
DTSTART;TZID=Europe/Helsinki:20260529T200000
DTEND;TZID=Europe/Helsinki:20260529T220000
DTSTAMP:20260422T222856
CREATED:20260417T100821Z
LAST-MODIFIED:20260417T100821Z
UID:3505-1780084800-1780092000@vaalmeander.co.za
SUMMARY:Prime Circle Live!
DESCRIPTION:Maak reg vir ’n epiese rock-aand wanneer Prime Circle die verhoog oorneem by Die Veiling Sasolburg! Een van Suid-Afrika se grootste rockgroepe kom die Vaal laat skud met hulle bekende hits en ongelooflike energie. \n Kaartjies:• R200 per persoon• R150 kinders onder 12• R500 VIP (Welkom drankie & snack platter ingesluit)\n Bring jou vriende\, bespreek jou plek en kom geniet ’n lekker aand van live musiek\, kos\, drinks en rock vibes!
URL:https://vaalmeander.co.za/event/prime-circle-live-2/
LOCATION:Die Veiling Pub Sasolburg\, 10 HF Verwoerd Road\, Sasolburg\, Free State\, 1895\, South Africa
CATEGORIES:Live Performances
ATTACH;FMTTYPE=image/jpeg:https://vaalmeander.co.za/wp-content/uploads/2026/04/327c79e85e2879dd5bfc36176fea535ebd0ea4e9217897ebfa7863ce8ed00989-rimg-w1200-h400-dc150605-gmir.jpg
END:VEVENT
END:VCALENDAR