BEGIN:VCALENDAR
VERSION:2.0
PRODID:-//Vaal Meander - ECPv6.15.20//NONSGML v1.0//EN
CALSCALE:GREGORIAN
METHOD:PUBLISH
X-ORIGINAL-URL:https://vaalmeander.co.za
X-WR-CALDESC:Events for Vaal Meander
REFRESH-INTERVAL;VALUE=DURATION:PT1H
X-Robots-Tag:noindex
X-PUBLISHED-TTL:PT1H
BEGIN:VTIMEZONE
TZID:Europe/Helsinki
BEGIN:DAYLIGHT
TZOFFSETFROM:+0200
TZOFFSETTO:+0300
TZNAME:EEST
DTSTART:20240331T010000
END:DAYLIGHT
BEGIN:STANDARD
TZOFFSETFROM:+0300
TZOFFSETTO:+0200
TZNAME:EET
DTSTART:20241027T010000
END:STANDARD
BEGIN:DAYLIGHT
TZOFFSETFROM:+0200
TZOFFSETTO:+0300
TZNAME:EEST
DTSTART:20250330T010000
END:DAYLIGHT
BEGIN:STANDARD
TZOFFSETFROM:+0300
TZOFFSETTO:+0200
TZNAME:EET
DTSTART:20251026T010000
END:STANDARD
BEGIN:DAYLIGHT
TZOFFSETFROM:+0200
TZOFFSETTO:+0300
TZNAME:EEST
DTSTART:20260329T010000
END:DAYLIGHT
BEGIN:STANDARD
TZOFFSETFROM:+0300
TZOFFSETTO:+0200
TZNAME:EET
DTSTART:20261025T010000
END:STANDARD
BEGIN:DAYLIGHT
TZOFFSETFROM:+0200
TZOFFSETTO:+0300
TZNAME:EEST
DTSTART:20270328T010000
END:DAYLIGHT
BEGIN:STANDARD
TZOFFSETFROM:+0300
TZOFFSETTO:+0200
TZNAME:EET
DTSTART:20271031T010000
END:STANDARD
END:VTIMEZONE
BEGIN:VEVENT
DTSTART;VALUE=DATE:20251004
DTEND;VALUE=DATE:20251005
DTSTAMP:20260423T211503
CREATED:20250918T111635Z
LAST-MODIFIED:20250918T111733Z
UID:3123-1759536000-1759622399@vaalmeander.co.za
SUMMARY:Parys: Weiveld Rally 2025
DESCRIPTION:Hekke open 07:00\nMotorfietse R100\nR150 per Motor\, drywer in gesluit – R50 pp ekstra in die voertuigKos stalletjies en games\, eie coolerbokse. N HELE DAG VAN VET PRET \nKontak – 071 876 7476 / info@weiveldrally.co.za
URL:https://vaalmeander.co.za/event/parys-weiveld-rally-2025/
LOCATION:Gauteng
CATEGORIES:Special Occasions,Sports, Racing, and Gaming
ATTACH;FMTTYPE=image/jpeg:https://vaalmeander.co.za/wp-content/uploads/2025/09/Weiveld-Rally-2025.jpg
END:VEVENT
BEGIN:VEVENT
DTSTART;VALUE=DATE:20251030
DTEND;VALUE=DATE:20251031
DTSTAMP:20260423T211503
CREATED:20250918T125524Z
LAST-MODIFIED:20250918T125524Z
UID:3171-1761782400-1761868799@vaalmeander.co.za
SUMMARY:The Golden Triangle: Lets Grill & Chill
DESCRIPTION:Save the Date\nThe Golden Triangle Chamber of Commerce will be hosting it’s Year-End Function on Thursday\, 30 October 2025.\n\n\nJoin us as we reflect on the year\, celebrate achievements\, and connect with fellow members and business leaders.\n\n\nDate: Thursday\, 30 October 2025
URL:https://vaalmeander.co.za/event/the-golden-triangle-lets-grill-chill/
LOCATION:Gauteng
CATEGORIES:Special Occasions
ATTACH;FMTTYPE=image/jpeg:https://vaalmeander.co.za/wp-content/uploads/2025/09/Golden-Triangle-Lets-Grill-and-Chill-in-the-Vaal-Meander.jpg
END:VEVENT
BEGIN:VEVENT
DTSTART;VALUE=DATE:20251101
DTEND;VALUE=DATE:20251102
DTSTAMP:20260423T211503
CREATED:20251017T075251Z
LAST-MODIFIED:20251017T075251Z
UID:3259-1761955200-1762041599@vaalmeander.co.za
SUMMARY:Saddle Creek: Grand Opening
DESCRIPTION:Location: 2 Lewis Avenue\, Vereeniging.\nFor stall Enquiries: 078 798 1578
URL:https://vaalmeander.co.za/event/saddle-creek-grand-opening/
LOCATION:Gauteng
CATEGORIES:Special Occasions,Sports, Racing, and Gaming
ATTACH;FMTTYPE=image/jpeg:https://vaalmeander.co.za/wp-content/uploads/2025/10/Saddle-Creek-Open-Day-and-the-Vaal-Meander.jpg
END:VEVENT
BEGIN:VEVENT
DTSTART;TZID=Europe/Helsinki:20251103T090000
DTEND;TZID=Europe/Helsinki:20251107T160000
DTSTAMP:20260423T211503
CREATED:20251016T105054Z
LAST-MODIFIED:20251016T105254Z
UID:3221-1762160400-1762531200@vaalmeander.co.za
SUMMARY:Master Acrylic or Gel Nails
DESCRIPTION:Master Acrylic or Gel Nails with Young Nails Vaal!\nAre you ready to take your nail skills to the next level?\nJoin us for an exclusive Young Nails Mastering Acrylic or Gel Training – a comprehensive\, hands-on course designed to elevate your artistry and technique.\n– What’s Included:• Part 1: Online Theory ExamDeepen your knowledge of nail anatomy\, diseases\, hygiene\, product chemistry\, and more with our detailed online module.• Part 2: One-Week Practical TrainingGet hands-on with expert-led sessions focusing on sculpting\, overlays\, maintenance\, faded French\, mixing\, proper filing techniques\, e-file use\, and our signature Reverse French the Young Nails way.• Part 3: Post-Practical PortfolioSubmit your work to showcase your progress and complete your certification journey.FULL KIT INCLUDED!You’ll receive a complete professional kit to use during and after your training – excluding the electric file andLED/UV lamp.\n• Taught by Bianke de JagerAuthorised mentor for Young Nails South Africa. As an educator\, I want to share my combined love of art and my passion for the beauty industry. My goal is to offer the best possible services and training.\nWhether you’re choosing acrylic or gel\, this course is packed with the skills and techniques you need to stand out in the industry
URL:https://vaalmeander.co.za/event/master-acrylic-or-gel-nails/
LOCATION:Gauteng
CATEGORIES:Special Occasions
ATTACH;FMTTYPE=image/jpeg:https://vaalmeander.co.za/wp-content/uploads/2025/10/Mastering-Acrylic-Gel-Training-Bianke-De-Jager.jpg
END:VEVENT
BEGIN:VEVENT
DTSTART;TZID=Europe/Helsinki:20251108T090000
DTEND;TZID=Europe/Helsinki:20251108T090000
DTSTAMP:20260423T211503
CREATED:20251016T110511Z
LAST-MODIFIED:20251016T110534Z
UID:3227-1762592400-1762592400@vaalmeander.co.za
SUMMARY:Meyerton Sports Ground: Mil-Vets Makietie
DESCRIPTION:
URL:https://vaalmeander.co.za/event/meyerton-sports-ground-mil-vets-makietie/
LOCATION:Meyerton Sports Club\, Begonia Street\, Meyerton\, Gauteng\, 1926
CATEGORIES:Festivals and Parties,Special Occasions
ATTACH;FMTTYPE=image/jpeg:https://vaalmeander.co.za/wp-content/uploads/2025/10/mil-Vets-Makietie-at-the-meyerton-sports-ground.jpg
END:VEVENT
BEGIN:VEVENT
DTSTART;TZID=Europe/Helsinki:20251213T180000
DTEND;TZID=Europe/Helsinki:20251213T220000
DTSTAMP:20260423T211503
CREATED:20251209T102450Z
LAST-MODIFIED:20251209T102450Z
UID:3313-1765648800-1765663200@vaalmeander.co.za
SUMMARY:Old cars Christmas lights parade Vanderbijlpark
DESCRIPTION:Any old cars welcome\nThe vehicles will be decorated with tinsel\, lights and Christmas trees. The route starts in Vanderbijlpark opposite Carel de Wet parking to get everyone together from 18h00 \, heading out 19h20 to –* Louis Trichardt BLVD * Hendrik van Eck BLVD 19h30 +-* Frikkie Meyer BLVD 19h40+-* Then back to the start opposite Carel de Wet parking for photos � 20h00+-\nThe parade is only open to Old vehicles. If you have one and would like to take part. you must decorated your own vehicles. Please note that this is just for fun anyone can take part at their own risk and cost.\nWe are collecting any donations and food for VAAL PETS VANDERBIJLPARK\nshould you require any further information you are welcome to email CHANTALLN777@GMAIL.COM or WhatsApp only 065 921 4806\nWe will be driving very slow Meeting place: opposite Carel de Wet high school Time :18h00 Date: 13 December 2025PLEASE NOTE ALL DRIVERS PLEASE BRING SOME SWEETS FOR THE KIDS ANYTHING YOU CAN AFFORD
URL:https://vaalmeander.co.za/event/old-cars-christmas-lights-parade-vanderbijlpark/
LOCATION:Gauteng
CATEGORIES:Fundraiser and Charity,Special Occasions
ATTACH;FMTTYPE=image/jpeg:https://vaalmeander.co.za/wp-content/uploads/2025/12/583701736_1618854829480564_7249813293302189950_n.jpg
END:VEVENT
BEGIN:VEVENT
DTSTART;TZID=Europe/Helsinki:20251216T090000
DTEND;TZID=Europe/Helsinki:20251216T220000
DTSTAMP:20260423T211503
CREATED:20251209T103133Z
LAST-MODIFIED:20251209T103133Z
UID:3318-1765875600-1765922400@vaalmeander.co.za
SUMMARY:Geloftefees
DESCRIPTION:Kom geniet gerus na die diens koffie en pannekoek saam met ons!
URL:https://vaalmeander.co.za/event/geloftefees/
LOCATION:Derde Kruis Gemeente Vanderbijlpark\, Cnr Piet Retief & Prinsloo Street\, Vanderbijlpark\, Gauteng\, SW2\, South Africa
CATEGORIES:Special Occasions
ATTACH;FMTTYPE=image/jpeg:https://vaalmeander.co.za/wp-content/uploads/2025/12/299204546_444769594333732_4495326696453190588_n.jpg
END:VEVENT
BEGIN:VEVENT
DTSTART;TZID=Europe/Helsinki:20251231T200000
DTEND;TZID=Europe/Helsinki:20260101T020000
DTSTAMP:20260423T211503
CREATED:20251209T101033Z
LAST-MODIFIED:20251209T101033Z
UID:3305-1767211200-1767232800@vaalmeander.co.za
SUMMARY:Ou Jaars Dans!
DESCRIPTION:OU JAARS DANS – DIE VEILING PLOTTEDie Boma-vuur brand\, die braai-pakkies smell\, en die dansvloer wag! Skop die Nuwe Jaar in met STYLE\, vibes en memories wat jy nie sal vergeet nie!\n 31 Desember 2025 | 20:00 – laat WhatsApp “BESPREEK” na 079 809 4062 om jou plek te secure!\n Bring jou crew\, jou dans moves\, en kom celebrate die ou jaar soos ’n baas! 
URL:https://vaalmeander.co.za/event/ou-jaars-dans/
LOCATION:Die Veiling Pub Vanderbijlpark\, 59 Rietspruit\, Lochvaal\, Vanderbijlpark\, Gauteng\, 1900\, South Africa
CATEGORIES:Festivals and Parties,Special Occasions
ATTACH;FMTTYPE=image/jpeg:https://vaalmeander.co.za/wp-content/uploads/2025/12/a69d343feb5ee825e446311b62c07c094375b3e4933b619d0a51efc9be097749-rimg-w1080-h1350-dc040404-gmir.jpg
END:VEVENT
BEGIN:VEVENT
DTSTART;TZID=Europe/Helsinki:20251231T210000
DTEND;TZID=Europe/Helsinki:20260101T020000
DTSTAMP:20260423T211503
CREATED:20251210T073434Z
LAST-MODIFIED:20251210T073448Z
UID:3328-1767214800-1767232800@vaalmeander.co.za
SUMMARY:DJ & Sokkie Ou Jaars Jol!
DESCRIPTION:DJ & Sokkie – Ou Jaars by Die Veiling Meyerton! Skop die Nuwe Jaar in met styl\, musiek en dans tot laat!  \nMaak jou Ou Jaars aand onvergeetlik – kom dans\, lag en vier die begin van 2026!
URL:https://vaalmeander.co.za/event/dj-sokkie-ou-jaars-jol/
LOCATION:Die Veiling Meyerton\, 110 Gordon Street\, Meyerton\, Gauteng\, 1961
CATEGORIES:Festivals and Parties,Special Occasions
ATTACH;FMTTYPE=image/jpeg:https://vaalmeander.co.za/wp-content/uploads/2025/12/541630485_649599538189913_2122183599132792487_n.jpg
END:VEVENT
BEGIN:VEVENT
DTSTART;VALUE=DATE:20260110
DTEND;VALUE=DATE:20260111
DTSTAMP:20260423T211503
CREATED:20251209T101931Z
LAST-MODIFIED:20251209T101931Z
UID:3308-1768003200-1768089599@vaalmeander.co.za
SUMMARY:New Year's Women's Circle
DESCRIPTION:“Realign & Rise: Finding Fulfilment and Purpose for 2026”\nStep into 2026 grounded\, fulfilled\, and aligned with your purpose. This women’s circle is a safe and sacred space to reconnect with your inner wisdom\, release what holds you back\, and set powerful intentions for the year ahead.\nOur focus for this Women’s Circle is:Guided meditation & journalingGroup sharing and intention settingGentle movement and breathworkConnecting with yourself before taking on the new year!\n\n Venue: 4 Heron road\, Henley on Klip\n\nComment “I’m in” or message me to be the first to receive details — spaces will be limited for this intimate experience. WhatsApp +27 84 589 7165
URL:https://vaalmeander.co.za/event/new-years-womens-circle/
LOCATION:Gauteng
CATEGORIES:Special Occasions
ATTACH;FMTTYPE=image/jpeg:https://vaalmeander.co.za/wp-content/uploads/2025/12/589877097_842074685074744_5251512063959598691_n.jpg
END:VEVENT
BEGIN:VEVENT
DTSTART;VALUE=DATE:20260228
DTEND;VALUE=DATE:20260301
DTSTAMP:20260423T211503
CREATED:20260211T090531Z
LAST-MODIFIED:20260211T090531Z
UID:3367-1772236800-1772323199@vaalmeander.co.za
SUMMARY:Couples & Self-Defence Challenge
DESCRIPTION:Looking for something different to do together?\n\n\nGrab your husband\, wife\, partner\, or shooting buddy and join us for our Month-End Couples & Self-Defence Challenge. This is not just about speed. It is about teamwork\, communication\, and staying sharp under pressure.\n\n\n\n\n\nDates: 28 Feb & 1 March\n\n\n\n\n\nEntry Fees:\n\n\nR350 per couple\n\n\nR250 per couple (Members)\n\n\n\n\n\nPlease note: Ammo and firearm rental are not included.\n\n\n\n\n\nExpect dynamic stages\, real teamwork\, and a challenge that keeps both of you thinking. No matching outfits required. Just bring a good attitude and a willingness to work together.\n\n\n\n\n\nScan the QR code or click on the link to register.\n\n\nhttps://form.jotform.com/260393707838063\n\n\n\n\n\nSpots are limited.
URL:https://vaalmeander.co.za/event/couples-self-defence-challenge/
LOCATION:Gauteng
CATEGORIES:Special Occasions,Sports, Racing, and Gaming
ATTACH;FMTTYPE=image/jpeg:https://vaalmeander.co.za/wp-content/uploads/2026/02/VOS-Couples-Self-Defence-Challenge.jpg
END:VEVENT
BEGIN:VEVENT
DTSTART;TZID=Europe/Helsinki:20260307T090000
DTEND;TZID=Europe/Helsinki:20260307T170000
DTSTAMP:20260423T211503
CREATED:20260224T075717Z
LAST-MODIFIED:20260224T075717Z
UID:3393-1772874000-1772902800@vaalmeander.co.za
SUMMARY:Vaal BLASC Open Day
DESCRIPTION:Join us for an informative and empowering open day focused on legal awareness\, student development and networking. Formal wear\, open for all Unisa students.
URL:https://vaalmeander.co.za/event/vaal-blasc-open-day/
LOCATION:Meyerton Town Hall\, 25 Kruger St\, Meyerton\, Gauteng\, 1961
CATEGORIES:Special Occasions
ATTACH;FMTTYPE=image/jpeg:https://vaalmeander.co.za/wp-content/uploads/2026/02/d80b0ead18da2bb92c270b761cd8a58b24c5d4fc339c68a6ae8864cec4757f5f-rimg-w1080-h1350-dc5a5a5c-gmir.jpg
END:VEVENT
BEGIN:VEVENT
DTSTART;TZID=Europe/Helsinki:20260314T180000
DTEND;TZID=Europe/Helsinki:20260314T180000
DTSTAMP:20260423T211503
CREATED:20260213T090139Z
LAST-MODIFIED:20260213T090338Z
UID:3374-1773511200-1773511200@vaalmeander.co.za
SUMMARY:Meyerton Knights Bingo (Circus themed)
DESCRIPTION:� WELCOME BACK\, KNIGHTS FAMILY! �\nWe’re kicking off the new season with our FIRST fundraising evening of the year — and you’re invited! ��\n� SAVE THE DATE: 14 MARCH� BINGO NIGHT �Hosted by Meyerton Knights Junior Rugby Club\nGet ready for a fun-filled circus-themed evening with great company\, lots of laughs\, and BIG prizes to be won! ��\n� Dress Code: Circus Themed� Pricing:• R150 per person – 10 rounds• R1500 per table – seats 10\nBring your friends\, family and fellow Knights supporters and help us raise funds for our junior players ��\n� Bookings:Milisha van Emmenis072 650 2143\n� Tag your bingo buddies & save the date — 14 March!
URL:https://vaalmeander.co.za/event/meyerton-knights-bingo-circus-themed/
LOCATION:Meyerton Knights Junior Rugby Club\, Dr Malan HS\, Shippard Street\, Meyerton\, Guateng\, 1961\, South Africa
CATEGORIES:Special Occasions
ATTACH;FMTTYPE=image/jpeg:https://vaalmeander.co.za/wp-content/uploads/2026/02/Meyerton-Knights-Bingo-Circus-themed.jpg
END:VEVENT
BEGIN:VEVENT
DTSTART;TZID=Europe/Helsinki:20260403T080000
DTEND;TZID=Europe/Helsinki:20260406T170000
DTSTAMP:20260423T211503
CREATED:20260330T104154Z
LAST-MODIFIED:20260330T104154Z
UID:3460-1775203200-1775494800@vaalmeander.co.za
SUMMARY:Easter Weekend!
DESCRIPTION:Join us for a beautiful and meaningful Easter experience at Bethany Blooms Flower Farm\, where families can enjoy fun-filled activities during the day and a peaceful\, relaxing atmosphere in the evenings. \nDates: 3 – 6 April \nR90 for Easter egg hunt in the flower farm (Includes R30 entry) \nR450 per couple for picnic \nR30 entry to flower farm \nDaytime Family Activities\nBring the kids for a memorable Easter experience filled with fun and purpose: \nJumping Castle \nEaster Egg Hunt with a Meaningful Twist \nChildren will take part in a unique Easter hunt where they search for 3 special stones hidden around the farm. \nEach stone can be exchanged for: \nA short Christian message about the true meaning of Easter \nA chocolate goody bag \nAll 3 stones must be collected to redeem the full experience \nThis activity is designed to be both fun and meaningful\, helping children understand the story of Easter in an engaging way. \nEvening Picnic Experience (Adults)\nFrom 4 PM – 6 PM\, unwind with a relaxing picnic experience surrounded by nature and flowers. \nPerfect for couples or anyone looking to enjoy a peaceful Easter atmosphere\, includes 16 stems flower pick your own package
URL:https://vaalmeander.co.za/event/easter-weekend/
LOCATION:Bethany Blooms Flower Farm\, 12 Phil Mostert St\, Unitaspark\, Vereeniging\, Gauteng\, 1943\, South Africa
CATEGORIES:Festivals and Parties,Special Occasions
ATTACH;FMTTYPE=image/jpeg:https://vaalmeander.co.za/wp-content/uploads/2026/03/659743958_122171547548790570_6950318934051973509_n.jpg
END:VEVENT
BEGIN:VEVENT
DTSTART;TZID=Europe/Helsinki:20260404T100000
DTEND;TZID=Europe/Helsinki:20260404T170000
DTSTAMP:20260423T211503
CREATED:20260227T104537Z
LAST-MODIFIED:20260227T104537Z
UID:3423-1775296800-1775322000@vaalmeander.co.za
SUMMARY:Riddle Bunny Run
DESCRIPTION:Maak seker julle mis nie die Riddle Bunny Run op die 4de April nie! Pret vir die hele familie.\nDaar is springkastele\, egg hunt\, best dressed bunny en vele meer!\n\n\nKom geniet die dag saam Centurions Mc Vaal.\nShakespeare street Vanderbijlpark.\nAlmal is welkom! \nToegang: R60\,\nKinders R30\n0/10 Gratis
URL:https://vaalmeander.co.za/event/riddle-bunny-run/
LOCATION:Centurions Clubhouse\, Shakespear Str\, Vanderbijlpark\, Gauteng\, 1911\, South Africa
CATEGORIES:Fundraiser and Charity,Special Occasions,Sports, Racing, and Gaming
ATTACH;FMTTYPE=image/jpeg:https://vaalmeander.co.za/wp-content/uploads/2026/02/f66b3795b0da205126a2c54850134e0103f54b65234c867fb830e933bc0281d0-rimg-w1024-h1536-dc46301b-gmir.jpg
END:VEVENT
BEGIN:VEVENT
DTSTART;VALUE=DATE:20260409
DTEND;VALUE=DATE:20260410
DTSTAMP:20260423T211503
CREATED:20260319T084017Z
LAST-MODIFIED:20260320T074711Z
UID:3452-1775692800-1775779199@vaalmeander.co.za
SUMMARY:Walkerville Antique Fair
DESCRIPTION:Book a space today – 061 197 2824
URL:https://vaalmeander.co.za/event/walkerville-antique-fair/
LOCATION:Walkerville Farmer’s Market\, 104 Main Road\, Walkerville\, Vereeniging\, Guateng\, 1961\, South Africa
CATEGORIES:Market and Expo Days,Special Occasions
ATTACH;FMTTYPE=image/jpeg:https://vaalmeander.co.za/wp-content/uploads/2026/03/Walkerville-Antique-Fair-1.jpeg
END:VEVENT
BEGIN:VEVENT
DTSTART;TZID=Europe/Helsinki:20260417T080000
DTEND;TZID=Europe/Helsinki:20260417T170000
DTSTAMP:20260423T211503
CREATED:20260417T102244Z
LAST-MODIFIED:20260417T102244Z
UID:3508-1776412800-1776445200@vaalmeander.co.za
SUMMARY:Vroue oggend met Cordelia "Water in jou Woestyn"
DESCRIPTION:Moenie hierdie ongelooflike geleentheid misloop nie
URL:https://vaalmeander.co.za/event/vroue-oggend-met-cordelia-water-in-jou-woestyn/
LOCATION:Sentraal Gemeente\, 9 Lion Cachet Street\, Vanderbijlpark\, Gauteng\, 1911\, South Africa
CATEGORIES:Special Occasions
ATTACH;FMTTYPE=image/jpeg:https://vaalmeander.co.za/wp-content/uploads/2026/04/646378564_122167114028670942_5563745861153389174_n.jpg
END:VEVENT
BEGIN:VEVENT
DTSTART;TZID=Europe/Helsinki:20260508T120000
DTEND;TZID=Europe/Helsinki:20260509T150000
DTSTAMP:20260423T211503
CREATED:20260413T091257Z
LAST-MODIFIED:20260413T091258Z
UID:3483-1778241600-1778338800@vaalmeander.co.za
SUMMARY:High Tea! Muse & Masterpiece Mother's Day
DESCRIPTION:SHE IS THE MASTERPIECE \nNot all art hangs on walls…some sit across from you\, laugh with you\, and make life beautiful \nThis Mother’s Day\, step into a moment that feels like a painting —soft\, elegant\, and unforgettable.\n Muse & Masterpiece — Mother’s Day High Tea \nCelebrate the women who inspire\, nurture\, and bring beauty into every day.\n A gallery-inspired high tea Stunning photo moments A celebration filled with love\, laughter & meaningful memories\n Book now: Chrisna 073 120 4736Limited seating available \nTreat your mom… your best friend… or yourself Because she deserves to be celebrated — beautifully.
URL:https://vaalmeander.co.za/event/high-tea-muse-masterpiece-mothers-day/
LOCATION:The Garden Boutique Eatery\, 8 Middel Street\, Parys\, Free State\, 9585\, South Africa
CATEGORIES:Special Occasions
ATTACH;FMTTYPE=image/jpeg:https://vaalmeander.co.za/wp-content/uploads/2026/04/667957917_1624449229688096_4167495285554385712_n.jpg
END:VEVENT
END:VCALENDAR