BEGIN:VCALENDAR
VERSION:2.0
PRODID:-//Vaal Meander - ECPv6.15.20//NONSGML v1.0//EN
CALSCALE:GREGORIAN
METHOD:PUBLISH
X-ORIGINAL-URL:https://vaalmeander.co.za
X-WR-CALDESC:Events for Vaal Meander
REFRESH-INTERVAL;VALUE=DURATION:PT1H
X-Robots-Tag:noindex
X-PUBLISHED-TTL:PT1H
BEGIN:VTIMEZONE
TZID:Europe/Helsinki
BEGIN:DAYLIGHT
TZOFFSETFROM:+0200
TZOFFSETTO:+0300
TZNAME:EEST
DTSTART:20240331T010000
END:DAYLIGHT
BEGIN:STANDARD
TZOFFSETFROM:+0300
TZOFFSETTO:+0200
TZNAME:EET
DTSTART:20241027T010000
END:STANDARD
BEGIN:DAYLIGHT
TZOFFSETFROM:+0200
TZOFFSETTO:+0300
TZNAME:EEST
DTSTART:20250330T010000
END:DAYLIGHT
BEGIN:STANDARD
TZOFFSETFROM:+0300
TZOFFSETTO:+0200
TZNAME:EET
DTSTART:20251026T010000
END:STANDARD
BEGIN:DAYLIGHT
TZOFFSETFROM:+0200
TZOFFSETTO:+0300
TZNAME:EEST
DTSTART:20260329T010000
END:DAYLIGHT
BEGIN:STANDARD
TZOFFSETFROM:+0300
TZOFFSETTO:+0200
TZNAME:EET
DTSTART:20261025T010000
END:STANDARD
END:VTIMEZONE
BEGIN:VEVENT
DTSTART;TZID=Europe/Helsinki:20250830T120000
DTEND;TZID=Europe/Helsinki:20250830T230000
DTSTAMP:20260423T145040
CREATED:20250813T130255Z
LAST-MODIFIED:20250813T130626Z
UID:3036-1756555200-1756594800@vaalmeander.co.za
SUMMARY:3 Anchors Lifestyle: Petals and Pine Picnic
DESCRIPTION:Let us celebrate Women’s Day together! \nTickets – R200 p/p\nRVSP on WhatsApp – 076 742 3778\nOR Call – 069 125 3539
URL:https://vaalmeander.co.za/event/3-anchors-lifestyle-petals-and-pine-picnic/
LOCATION:3 Anchors Lifstyle\, Stokkiesdraai Road\, 32 Northdene\, Vanderbijlpark\, Gauteng\, 1913\, South Africa
CATEGORIES:Festivals and Parties,Special Occasions
ATTACH;FMTTYPE=image/jpeg:https://vaalmeander.co.za/wp-content/uploads/2025/08/3-Anchors-Lifestyle-event-Petals-and-Pine-Picnic-and-the-Vaal-Meander.jpg
END:VEVENT
END:VCALENDAR