BEGIN:VCALENDAR
VERSION:2.0
PRODID:-//Vaal Meander - ECPv6.15.20//NONSGML v1.0//EN
CALSCALE:GREGORIAN
METHOD:PUBLISH
X-ORIGINAL-URL:https://vaalmeander.co.za
X-WR-CALDESC:Events for Vaal Meander
REFRESH-INTERVAL;VALUE=DURATION:PT1H
X-Robots-Tag:noindex
X-PUBLISHED-TTL:PT1H
BEGIN:VTIMEZONE
TZID:Europe/Helsinki
BEGIN:DAYLIGHT
TZOFFSETFROM:+0200
TZOFFSETTO:+0300
TZNAME:EEST
DTSTART:20240331T010000
END:DAYLIGHT
BEGIN:STANDARD
TZOFFSETFROM:+0300
TZOFFSETTO:+0200
TZNAME:EET
DTSTART:20241027T010000
END:STANDARD
BEGIN:DAYLIGHT
TZOFFSETFROM:+0200
TZOFFSETTO:+0300
TZNAME:EEST
DTSTART:20250330T010000
END:DAYLIGHT
BEGIN:STANDARD
TZOFFSETFROM:+0300
TZOFFSETTO:+0200
TZNAME:EET
DTSTART:20251026T010000
END:STANDARD
BEGIN:DAYLIGHT
TZOFFSETFROM:+0200
TZOFFSETTO:+0300
TZNAME:EEST
DTSTART:20260329T010000
END:DAYLIGHT
BEGIN:STANDARD
TZOFFSETFROM:+0300
TZOFFSETTO:+0200
TZNAME:EET
DTSTART:20261025T010000
END:STANDARD
END:VTIMEZONE
BEGIN:VEVENT
DTSTART;TZID=Europe/Helsinki:20250804T170000
DTEND;TZID=Europe/Helsinki:20250804T230000
DTSTAMP:20260423T132400
CREATED:20250716T085803Z
LAST-MODIFIED:20250716T085803Z
UID:2899-1754326800-1754348400@vaalmeander.co.za
SUMMARY:Mr. and Ms. CTU Vereeniging
DESCRIPTION:Theme: Denim and Diamonds \nShow your support and enjoy the evening with them \nW/A 063 844 3311 to make your booking now
URL:https://vaalmeander.co.za/event/mr-and-ms-ctu-vereeniging/
LOCATION:The Braai Wagon\, Brandmuller Dr\, Three Rivers\, Vereeniging\, Gauteng\, 1935\, South Africa
CATEGORIES:Special Occasions
ATTACH;FMTTYPE=image/jpeg:https://vaalmeander.co.za/wp-content/uploads/2025/07/496964818_544316965398577_1540649545789705695_n.jpg
END:VEVENT
BEGIN:VEVENT
DTSTART;VALUE=DATE:20250809
DTEND;VALUE=DATE:20250810
DTSTAMP:20260423T132400
CREATED:20250716T120340Z
LAST-MODIFIED:20250717T073056Z
UID:2951-1754697600-1754783999@vaalmeander.co.za
SUMMARY:SHE: A Celebration of the BRAVE\, BEAUTIFUL & BRILLIANT
DESCRIPTION:INTRODUCING: SHE 2025 \nThis August\, we’re celebrating Women’s Day like never before. SHE is more than an event – it’s a movement honoring the BRAVE\, BEAUTIFUL & BRILLIANT women who inspire us every day.\nFrom sunrise yoga sessions to empowering talks\, beauty masterclasses to an incredible evening celebration featuring South Africa’s top female artists – we’re creating a space where women can connect\, grow\, and shine together.\n Morning wellness & yoga Beauty & self-care experiences \, Empowerment sessions & talks All-female artist lineup Evening celebration under the starsSave the Date: August 9\, 2025 Vaal Mall\, Vanderbijlpark Tickets: R250 (Available on @webtickets)\nThis is YOUR day. Your moment. Your celebration.Are you ready to embrace your inner SHE?
URL:https://vaalmeander.co.za/event/she-a-celebration-of-the-brace-beautiful-brilliant/
LOCATION:Gauteng
CATEGORIES:Special Occasions
ATTACH;FMTTYPE=image/jpeg:https://vaalmeander.co.za/wp-content/uploads/2025/07/SHE-A-Celebration-of-the-BRACE-BEAUTIFUL-BRILLIANT-and-the-Vaal-Meander.jpg
END:VEVENT
BEGIN:VEVENT
DTSTART;TZID=Europe/Helsinki:20250809T100000
DTEND;TZID=Europe/Helsinki:20250809T100000
DTSTAMP:20260423T132400
CREATED:20250716T114432Z
LAST-MODIFIED:20250716T114653Z
UID:2943-1754733600-1754733600@vaalmeander.co.za
SUMMARY:Replenish Coffee Shop: High Tea met Marijke Coetser
DESCRIPTION:Vrouedag 9 Augustus met Marijke CoetserBy Replenish Coffee Shop (Vanderbijlpark)Om te bespreek skakel 061 512 4652 Moet dit nie misloop nie
URL:https://vaalmeander.co.za/event/replenish-coffee-shop-high-tea-met-marijke-coetser/
LOCATION:Replenish Coffee Shop\, 271 Valerie Avenue\, Vaalview AH\, Vanderbijlpark\, Gauteng\, 1900\, South Africa
CATEGORIES:Special Occasions
ATTACH;FMTTYPE=image/jpeg:https://vaalmeander.co.za/wp-content/uploads/2025/07/Replenish-Coffee-Shop-Womans-High-Tea.jpg
END:VEVENT
BEGIN:VEVENT
DTSTART;TZID=Europe/Helsinki:20250830T120000
DTEND;TZID=Europe/Helsinki:20250830T230000
DTSTAMP:20260423T132400
CREATED:20250813T130255Z
LAST-MODIFIED:20250813T130626Z
UID:3036-1756555200-1756594800@vaalmeander.co.za
SUMMARY:3 Anchors Lifestyle: Petals and Pine Picnic
DESCRIPTION:Let us celebrate Women’s Day together! \nTickets – R200 p/p\nRVSP on WhatsApp – 076 742 3778\nOR Call – 069 125 3539
URL:https://vaalmeander.co.za/event/3-anchors-lifestyle-petals-and-pine-picnic/
LOCATION:3 Anchors Lifstyle\, Stokkiesdraai Road\, 32 Northdene\, Vanderbijlpark\, Gauteng\, 1913\, South Africa
CATEGORIES:Festivals and Parties,Special Occasions
ATTACH;FMTTYPE=image/jpeg:https://vaalmeander.co.za/wp-content/uploads/2025/08/3-Anchors-Lifestyle-event-Petals-and-Pine-Picnic-and-the-Vaal-Meander.jpg
END:VEVENT
END:VCALENDAR