BEGIN:VCALENDAR
VERSION:2.0
PRODID:-//Vaal Meander - ECPv6.15.20//NONSGML v1.0//EN
CALSCALE:GREGORIAN
METHOD:PUBLISH
X-WR-CALNAME:Vaal Meander
X-ORIGINAL-URL:https://vaalmeander.co.za
X-WR-CALDESC:Events for Vaal Meander
REFRESH-INTERVAL;VALUE=DURATION:PT1H
X-Robots-Tag:noindex
X-PUBLISHED-TTL:PT1H
BEGIN:VTIMEZONE
TZID:Europe/Helsinki
BEGIN:DAYLIGHT
TZOFFSETFROM:+0200
TZOFFSETTO:+0300
TZNAME:EEST
DTSTART:20240331T010000
END:DAYLIGHT
BEGIN:STANDARD
TZOFFSETFROM:+0300
TZOFFSETTO:+0200
TZNAME:EET
DTSTART:20241027T010000
END:STANDARD
BEGIN:DAYLIGHT
TZOFFSETFROM:+0200
TZOFFSETTO:+0300
TZNAME:EEST
DTSTART:20250330T010000
END:DAYLIGHT
BEGIN:STANDARD
TZOFFSETFROM:+0300
TZOFFSETTO:+0200
TZNAME:EET
DTSTART:20251026T010000
END:STANDARD
BEGIN:DAYLIGHT
TZOFFSETFROM:+0200
TZOFFSETTO:+0300
TZNAME:EEST
DTSTART:20260329T010000
END:DAYLIGHT
BEGIN:STANDARD
TZOFFSETFROM:+0300
TZOFFSETTO:+0200
TZNAME:EET
DTSTART:20261025T010000
END:STANDARD
END:VTIMEZONE
BEGIN:VEVENT
DTSTART;TZID=Europe/Helsinki:20250705T120000
DTEND;TZID=Europe/Helsinki:20250706T233000
DTSTAMP:20260423T144701
CREATED:20250604T120623Z
LAST-MODIFIED:20250604T120623Z
UID:2839-1751716800-1751844600@vaalmeander.co.za
SUMMARY:The Vaal River Meander Wine Route Venues
DESCRIPTION:WINE TASTING every Weekend from 12h00!\n(7 June ’25 – 27 July ’25) \nR80.00 to taste 8 different wines \nVenues:\n– Anchorage Vaal Dam\n– Stoneheaven\n– Waterfront Country Lodge & Spa\n– Riviera on Vaal\n– Vaal River Lodge\n– Rio Sol\n– Villa Verde\n– Emerald Tsogo Sun\n– John Dory’s\n– Liquid Lounge\n– The Iron Restaurant\n– Pont De Val\n– Riverside Sun
URL:https://vaalmeander.co.za/event/the-vaal-river-meander-wine-route-venues-5/
LOCATION:Gauteng
CATEGORIES:Special Occasions
ATTACH;FMTTYPE=image/jpeg:https://vaalmeander.co.za/wp-content/uploads/2025/06/The-Vaal-Wine-Route-and-the-Vaal-Meander.jpg
ORGANIZER;CN="The Vaal Wine Route":MAILTO:info@vaalwineroute.co.za
END:VEVENT
BEGIN:VEVENT
DTSTART;TZID=Europe/Helsinki:20250712T100000
DTEND;TZID=Europe/Helsinki:20250712T150000
DTSTAMP:20260423T144701
CREATED:20250627T102311Z
LAST-MODIFIED:20250627T102311Z
UID:2871-1752314400-1752332400@vaalmeander.co.za
SUMMARY:Tea and Testimony Party
DESCRIPTION:Theme:  She is healed\, she is restored\, renewed\, revived \nUplifting and fixing each other’s crownsWe are scared but only Jesus can heal us permanently  see you there… \n 
URL:https://vaalmeander.co.za/event/tea-and-testimony-party/
LOCATION:Muvhango\, Extension 16\, Muvhango\, Gauteng\, 1911
CATEGORIES:Special Occasions
ATTACH;FMTTYPE=image/jpeg:https://vaalmeander.co.za/wp-content/uploads/2025/06/505118917_1313278173551092_736231914777774155_n.jpg
END:VEVENT
BEGIN:VEVENT
DTSTART;TZID=Europe/Helsinki:20250712T120000
DTEND;TZID=Europe/Helsinki:20250713T233000
DTSTAMP:20260423T144701
CREATED:20250604T120801Z
LAST-MODIFIED:20250604T120801Z
UID:2841-1752321600-1752449400@vaalmeander.co.za
SUMMARY:The Vaal River Meander Wine Route Venues
DESCRIPTION:WINE TASTING every Weekend from 12h00!\n(7 June ’25 – 27 July ’25) \nR80.00 to taste 8 different wines \nVenues:\n– Anchorage Vaal Dam\n– Stoneheaven\n– Waterfront Country Lodge & Spa\n– Riviera on Vaal\n– Vaal River Lodge\n– Rio Sol\n– Villa Verde\n– Emerald Tsogo Sun\n– John Dory’s\n– Liquid Lounge\n– The Iron Restaurant\n– Pont De Val\n– Riverside Sun
URL:https://vaalmeander.co.za/event/the-vaal-river-meander-wine-route-venues-6/
LOCATION:Gauteng
CATEGORIES:Special Occasions
ATTACH;FMTTYPE=image/jpeg:https://vaalmeander.co.za/wp-content/uploads/2025/06/The-Vaal-Wine-Route-and-the-Vaal-Meander.jpg
ORGANIZER;CN="The Vaal Wine Route":MAILTO:info@vaalwineroute.co.za
END:VEVENT
BEGIN:VEVENT
DTSTART;TZID=Europe/Helsinki:20250719T120000
DTEND;TZID=Europe/Helsinki:20250720T233000
DTSTAMP:20260423T144701
CREATED:20250604T120912Z
LAST-MODIFIED:20250604T120912Z
UID:2843-1752926400-1753054200@vaalmeander.co.za
SUMMARY:The Vaal River Meander Wine Route Venues
DESCRIPTION:WINE TASTING every Weekend from 12h00!\n(7 June ’25 – 27 July ’25) \nR80.00 to taste 8 different wines \nVenues:\n– Anchorage Vaal Dam\n– Stoneheaven\n– Waterfront Country Lodge & Spa\n– Riviera on Vaal\n– Vaal River Lodge\n– Rio Sol\n– Villa Verde\n– Emerald Tsogo Sun\n– John Dory’s\n– Liquid Lounge\n– The Iron Restaurant\n– Pont De Val\n– Riverside Sun
URL:https://vaalmeander.co.za/event/the-vaal-river-meander-wine-route-venues-7/
LOCATION:Gauteng
CATEGORIES:Special Occasions
ATTACH;FMTTYPE=image/jpeg:https://vaalmeander.co.za/wp-content/uploads/2025/06/The-Vaal-Wine-Route-and-the-Vaal-Meander.jpg
ORGANIZER;CN="The Vaal Wine Route":MAILTO:info@vaalwineroute.co.za
END:VEVENT
BEGIN:VEVENT
DTSTART;TZID=Europe/Helsinki:20250726T120000
DTEND;TZID=Europe/Helsinki:20250727T233000
DTSTAMP:20260423T144701
CREATED:20250604T121108Z
LAST-MODIFIED:20250604T121108Z
UID:2845-1753531200-1753659000@vaalmeander.co.za
SUMMARY:The Vaal River Meander Wine Route Venues
DESCRIPTION:WINE TASTING every Weekend from 12h00!\n(7 June ’25 – 27 July ’25) \nR80.00 to taste 8 different wines \nVenues:\n– Anchorage Vaal Dam\n– Stoneheaven\n– Waterfront Country Lodge & Spa\n– Riviera on Vaal\n– Vaal River Lodge\n– Rio Sol\n– Villa Verde\n– Emerald Tsogo Sun\n– John Dory’s\n– Liquid Lounge\n– The Iron Restaurant\n– Pont De Val\n– Riverside Sun
URL:https://vaalmeander.co.za/event/the-vaal-river-meander-wine-route-venues-8/
LOCATION:Gauteng
CATEGORIES:Special Occasions
ATTACH;FMTTYPE=image/jpeg:https://vaalmeander.co.za/wp-content/uploads/2025/06/The-Vaal-Wine-Route-and-the-Vaal-Meander.jpg
ORGANIZER;CN="The Vaal Wine Route":MAILTO:info@vaalwineroute.co.za
END:VEVENT
END:VCALENDAR