BEGIN:VCALENDAR
VERSION:2.0
PRODID:-//Vaal Meander - ECPv6.15.20//NONSGML v1.0//EN
CALSCALE:GREGORIAN
METHOD:PUBLISH
X-WR-CALNAME:Vaal Meander
X-ORIGINAL-URL:https://vaalmeander.co.za
X-WR-CALDESC:Events for Vaal Meander
REFRESH-INTERVAL;VALUE=DURATION:PT1H
X-Robots-Tag:noindex
X-PUBLISHED-TTL:PT1H
BEGIN:VTIMEZONE
TZID:Europe/Helsinki
BEGIN:DAYLIGHT
TZOFFSETFROM:+0200
TZOFFSETTO:+0300
TZNAME:EEST
DTSTART:20240331T010000
END:DAYLIGHT
BEGIN:STANDARD
TZOFFSETFROM:+0300
TZOFFSETTO:+0200
TZNAME:EET
DTSTART:20241027T010000
END:STANDARD
BEGIN:DAYLIGHT
TZOFFSETFROM:+0200
TZOFFSETTO:+0300
TZNAME:EEST
DTSTART:20250330T010000
END:DAYLIGHT
BEGIN:STANDARD
TZOFFSETFROM:+0300
TZOFFSETTO:+0200
TZNAME:EET
DTSTART:20251026T010000
END:STANDARD
BEGIN:DAYLIGHT
TZOFFSETFROM:+0200
TZOFFSETTO:+0300
TZNAME:EEST
DTSTART:20260329T010000
END:DAYLIGHT
BEGIN:STANDARD
TZOFFSETFROM:+0300
TZOFFSETTO:+0200
TZNAME:EET
DTSTART:20261025T010000
END:STANDARD
END:VTIMEZONE
BEGIN:VEVENT
DTSTART;TZID=Europe/Helsinki:20250802T080000
DTEND;TZID=Europe/Helsinki:20250802T140000
DTSTAMP:20260423T193823
CREATED:20250722T125550Z
LAST-MODIFIED:20250722T125604Z
UID:2987-1754121600-1754143200@vaalmeander.co.za
SUMMARY:B and R Hardware: Celebration day
DESCRIPTION:A fun Celebration including:\n– Food & Drinks\n– Giveaways\n– Lucky Draws\n– Supplier Exhibitions
URL:https://vaalmeander.co.za/event/b-and-r-hardware-celebration-day/
LOCATION:B and R Hardware\, 166 Blackwood St\, Three Rivers\, Vereeniging\, Gauteng\, 1929\, South Africa
CATEGORIES:Market and Expo Days
ATTACH;FMTTYPE=image/png:https://vaalmeander.co.za/wp-content/uploads/2025/07/BnR-Hardware-August-Market-day.png
END:VEVENT
BEGIN:VEVENT
DTSTART;TZID=Europe/Helsinki:20250802T110000
DTEND;TZID=Europe/Helsinki:20250802T180000
DTSTAMP:20260423T193823
CREATED:20250716T112632Z
LAST-MODIFIED:20250716T112834Z
UID:2935-1754132400-1754157600@vaalmeander.co.za
SUMMARY:Swagga Brewery: Craft Market
DESCRIPTION:
URL:https://vaalmeander.co.za/event/swagga-brewery-craft-market/
LOCATION:Swagga Breweries\, 42 Bosbok Street Meyerton 1961\, Meyerton\, Gauteng\, 1961\, South Africa
CATEGORIES:Festivals and Parties,Market and Expo Days
ATTACH;FMTTYPE=image/jpeg:https://vaalmeander.co.za/wp-content/uploads/2025/07/Swagga-Breweries-Vinyl-Fair.jpg
END:VEVENT
END:VCALENDAR