BEGIN:VCALENDAR
VERSION:2.0
PRODID:-//Vaal Meander - ECPv6.15.20//NONSGML v1.0//EN
CALSCALE:GREGORIAN
METHOD:PUBLISH
X-ORIGINAL-URL:https://vaalmeander.co.za
X-WR-CALDESC:Events for Vaal Meander
REFRESH-INTERVAL;VALUE=DURATION:PT1H
X-Robots-Tag:noindex
X-PUBLISHED-TTL:PT1H
BEGIN:VTIMEZONE
TZID:Europe/Helsinki
BEGIN:DAYLIGHT
TZOFFSETFROM:+0200
TZOFFSETTO:+0300
TZNAME:EEST
DTSTART:20240331T010000
END:DAYLIGHT
BEGIN:STANDARD
TZOFFSETFROM:+0300
TZOFFSETTO:+0200
TZNAME:EET
DTSTART:20241027T010000
END:STANDARD
BEGIN:DAYLIGHT
TZOFFSETFROM:+0200
TZOFFSETTO:+0300
TZNAME:EEST
DTSTART:20250330T010000
END:DAYLIGHT
BEGIN:STANDARD
TZOFFSETFROM:+0300
TZOFFSETTO:+0200
TZNAME:EET
DTSTART:20251026T010000
END:STANDARD
BEGIN:DAYLIGHT
TZOFFSETFROM:+0200
TZOFFSETTO:+0300
TZNAME:EEST
DTSTART:20260329T010000
END:DAYLIGHT
BEGIN:STANDARD
TZOFFSETFROM:+0300
TZOFFSETTO:+0200
TZNAME:EET
DTSTART:20261025T010000
END:STANDARD
END:VTIMEZONE
BEGIN:VEVENT
DTSTART;TZID=Europe/Helsinki:20250802T080000
DTEND;TZID=Europe/Helsinki:20250802T140000
DTSTAMP:20260423T180528
CREATED:20250722T125550Z
LAST-MODIFIED:20250722T125604Z
UID:2987-1754121600-1754143200@vaalmeander.co.za
SUMMARY:B and R Hardware: Celebration day
DESCRIPTION:A fun Celebration including:\n– Food & Drinks\n– Giveaways\n– Lucky Draws\n– Supplier Exhibitions
URL:https://vaalmeander.co.za/event/b-and-r-hardware-celebration-day/
LOCATION:B and R Hardware\, 166 Blackwood St\, Three Rivers\, Vereeniging\, Gauteng\, 1929\, South Africa
CATEGORIES:Market and Expo Days
ATTACH;FMTTYPE=image/png:https://vaalmeander.co.za/wp-content/uploads/2025/07/BnR-Hardware-August-Market-day.png
END:VEVENT
BEGIN:VEVENT
DTSTART;TZID=Europe/Helsinki:20250802T110000
DTEND;TZID=Europe/Helsinki:20250802T180000
DTSTAMP:20260423T180528
CREATED:20250716T112632Z
LAST-MODIFIED:20250716T112834Z
UID:2935-1754132400-1754157600@vaalmeander.co.za
SUMMARY:Swagga Brewery: Craft Market
DESCRIPTION:
URL:https://vaalmeander.co.za/event/swagga-brewery-craft-market/
LOCATION:Swagga Breweries\, 42 Bosbok Street Meyerton 1961\, Meyerton\, Gauteng\, 1961\, South Africa
CATEGORIES:Festivals and Parties,Market and Expo Days
ATTACH;FMTTYPE=image/jpeg:https://vaalmeander.co.za/wp-content/uploads/2025/07/Swagga-Breweries-Vinyl-Fair.jpg
END:VEVENT
BEGIN:VEVENT
DTSTART;TZID=Europe/Helsinki:20250803T080000
DTEND;TZID=Europe/Helsinki:20250803T170000
DTSTAMP:20260423T180528
CREATED:20250716T112810Z
LAST-MODIFIED:20250716T112810Z
UID:2938-1754208000-1754240400@vaalmeander.co.za
SUMMARY:Swagga Breweries: Vinyl Fair
DESCRIPTION:
URL:https://vaalmeander.co.za/event/swagga-breweries-vinyl-fair/
LOCATION:Swagga Breweries\, 42 Bosbok Street Meyerton 1961\, Meyerton\, Gauteng\, 1961\, South Africa
CATEGORIES:Market and Expo Days
ATTACH;FMTTYPE=image/jpeg:https://vaalmeander.co.za/wp-content/uploads/2025/07/Swagga-Breweries-Vinyl-Fair.jpg
END:VEVENT
BEGIN:VEVENT
DTSTART;TZID=Europe/Helsinki:20250810T100000
DTEND;TZID=Europe/Helsinki:20250810T200000
DTSTAMP:20260423T180528
CREATED:20250716T090426Z
LAST-MODIFIED:20250716T090426Z
UID:2902-1754820000-1754856000@vaalmeander.co.za
SUMMARY:Country Car Show!
DESCRIPTION:Get ready for a day of fun\, excitement\, at the\nCountry Car show.\n\n\n Come and Enjoy the Music.\n Food: Delicious Food Stalls\,\nsnacks and beverages.\n Shop: Toys\, crafts and more items from vendors.\n See Classic Cars\, Race cars and Dealership showing there new cars.\n\n\nEntrance Fee: R20.00 per person\nKids under 5yrs free\nBring your family and friends\, for a day filled with fun and entertainment.\n\n\nDon’t miss out on this huge event!\n\nCar Entry is FREE! Any race cars\, classic cars or car groups! \nTo enter your car contact Dawie: 083 228 1030 / Arlise: 072 340 0619 \nVendors Welcome: To book a stall contact Fred: 082 222 3365
URL:https://vaalmeander.co.za/event/country-car-show/
LOCATION:Vaal Showgrounds\, Boy Louw &\, Nic Botha St\, Leeuwkuil\, Vereeniging\, Gauteng\, 1939\, South Africa
CATEGORIES:Market and Expo Days,Sports, Racing, and Gaming
ATTACH;FMTTYPE=image/jpeg:https://vaalmeander.co.za/wp-content/uploads/2025/07/516486686_10233586501637776_237691981549042437_n.jpg
END:VEVENT
BEGIN:VEVENT
DTSTART;TZID=Europe/Helsinki:20250831T120000
DTEND;TZID=Europe/Helsinki:20250831T120000
DTSTAMP:20260423T180528
CREATED:20250717T105527Z
LAST-MODIFIED:20250717T111957Z
UID:2966-1756641600-1756641600@vaalmeander.co.za
SUMMARY:R'new Vaal: Labyrinth Market Day
DESCRIPTION:Please join us to walk the Labyrinth at exactly 1 o’clock every last Sunday of the month. Worldwide.R’New holds the largest Labyrinth in Africa.We will also host a market\, free entrance\, stalls\, entertainment and so much more.Just outside Deneysville\, next to the Vaal Dam
URL:https://vaalmeander.co.za/event/rnew-vaal-labyrinth-market-2/
LOCATION:R’new Vaal\, 5 South Bay Farm\, Deneysville\, Freestate\, 1932\, South Africa
CATEGORIES:Market and Expo Days
ATTACH;FMTTYPE=image/jpeg:https://vaalmeander.co.za/wp-content/uploads/2025/07/Rnew-Vaal-market-day-and-the-Vaal-Meander.jpg
END:VEVENT
END:VCALENDAR