BEGIN:VCALENDAR
VERSION:2.0
PRODID:-//Vaal Meander - ECPv6.15.20//NONSGML v1.0//EN
CALSCALE:GREGORIAN
METHOD:PUBLISH
X-ORIGINAL-URL:https://vaalmeander.co.za
X-WR-CALDESC:Events for Vaal Meander
REFRESH-INTERVAL;VALUE=DURATION:PT1H
X-Robots-Tag:noindex
X-PUBLISHED-TTL:PT1H
BEGIN:VTIMEZONE
TZID:Europe/Helsinki
BEGIN:DAYLIGHT
TZOFFSETFROM:+0200
TZOFFSETTO:+0300
TZNAME:EEST
DTSTART:20230326T010000
END:DAYLIGHT
BEGIN:STANDARD
TZOFFSETFROM:+0300
TZOFFSETTO:+0200
TZNAME:EET
DTSTART:20231029T010000
END:STANDARD
BEGIN:DAYLIGHT
TZOFFSETFROM:+0200
TZOFFSETTO:+0300
TZNAME:EEST
DTSTART:20240331T010000
END:DAYLIGHT
BEGIN:STANDARD
TZOFFSETFROM:+0300
TZOFFSETTO:+0200
TZNAME:EET
DTSTART:20241027T010000
END:STANDARD
BEGIN:DAYLIGHT
TZOFFSETFROM:+0200
TZOFFSETTO:+0300
TZNAME:EEST
DTSTART:20250330T010000
END:DAYLIGHT
BEGIN:STANDARD
TZOFFSETFROM:+0300
TZOFFSETTO:+0200
TZNAME:EET
DTSTART:20251026T010000
END:STANDARD
BEGIN:DAYLIGHT
TZOFFSETFROM:+0200
TZOFFSETTO:+0300
TZNAME:EEST
DTSTART:20260329T010000
END:DAYLIGHT
BEGIN:STANDARD
TZOFFSETFROM:+0300
TZOFFSETTO:+0200
TZNAME:EET
DTSTART:20261025T010000
END:STANDARD
END:VTIMEZONE
BEGIN:VEVENT
DTSTART;TZID=Europe/Helsinki:20251005T130000
DTEND;TZID=Europe/Helsinki:20251005T170000
DTSTAMP:20260422T135359
CREATED:20250918T123926Z
LAST-MODIFIED:20250918T123926Z
UID:3160-1759669200-1759683600@vaalmeander.co.za
SUMMARY:Aqua Lounge: Soul & RnB Cruise
DESCRIPTION:04 October 2025 16h30 – 20h30 Liquid lounge @Emerald Resort & Casino(Vanderbijlpark) R680 per person◇Theme: ●All White● ●Tickets now selling at Computickets\, Shoprite & Checkers ●Webticket\,Pick ‘n Pay & Boxer\n Webtickets Link https://www.webtickets.co.za/v2/event.aspx?itemid=1571629883\nYour ticket includes: Meat Platter per person  A 4-hour boat cruise Live entertainment(Soul & Rnb Djs) Call or WhatsApp for more info 073 084 7842\nGet your tickets now at Computicket & Webticket don’t miss this one-of-a-kind riverside experience.
URL:https://vaalmeander.co.za/event/aqua-lounge-soul-rnb-cruise/
LOCATION:Aqua Lounge\, Minaar street Vaalpark\, Vaalpark\, Gauteng\, 1930\, South Africa
CATEGORIES:Festivals and Parties
ATTACH;FMTTYPE=image/jpeg:https://vaalmeander.co.za/wp-content/uploads/2025/09/Soul-and-RNB-Cruise.jpg
END:VEVENT
BEGIN:VEVENT
DTSTART;VALUE=DATE:20251004
DTEND;VALUE=DATE:20251005
DTSTAMP:20260422T135359
CREATED:20250918T110138Z
LAST-MODIFIED:20250918T110138Z
UID:3117-1759536000-1759622399@vaalmeander.co.za
SUMMARY:Braai Wagon Day
DESCRIPTION:
URL:https://vaalmeander.co.za/event/braai-wagon-day/
LOCATION:The Braai Wagon\, Brandmuller Dr\, Three Rivers\, Vereeniging\, Gauteng\, 1935\, South Africa
CATEGORIES:Festivals and Parties
ATTACH;FMTTYPE=image/jpeg:https://vaalmeander.co.za/wp-content/uploads/2025/09/Braai-wagon-FUN-DAY.jpg
END:VEVENT
BEGIN:VEVENT
DTSTART;VALUE=DATE:20250927
DTEND;VALUE=DATE:20250928
DTSTAMP:20260422T135359
CREATED:20250916T075346Z
LAST-MODIFIED:20250916T075346Z
UID:3108-1758931200-1759017599@vaalmeander.co.za
SUMMARY:Die Veiling: BOEREDAG
DESCRIPTION: DIE VEILING VANDERBIJLPARK – BOEREDAG 2025  27 September |  Die Veiling\, Vanderbijlpark\nKom kuier saam vir ’n dag vol pret\, musiek en plaaslike gees!  Snotkop | Loufi | Jakkie Louw | Dusty Dixon | David Fourie Big Screen Rugby |  Boeresport |  Stalletjies\n Kaartjies: Vroëe Voël – R200 VIP – R600 Volwassenes – R250 pp Kinders onder 12 – R100\n WhatsApp “BESPREEK” na 082 308 9216 om jou plek te verseker!Moenie hierdie boerefees van die jaar misloop nie! 
URL:https://vaalmeander.co.za/event/die-veiling-boeredag/
LOCATION:Die Veiling Vanderbijlpark (Harry’s Butchery)\, 59 Rietspruit\, Lochvaal\, Sasolburg\, Gauteng\, 1910\, South Africa
CATEGORIES:Festivals and Parties,Special Occasions
ATTACH;FMTTYPE=image/jpeg:https://vaalmeander.co.za/wp-content/uploads/2025/09/Die-Veiling-Boeredag-en-Die-Vaal-Meander.jpg
END:VEVENT
BEGIN:VEVENT
DTSTART;VALUE=DATE:20250927
DTEND;VALUE=DATE:20250928
DTSTAMP:20260422T135359
CREATED:20250820T123232Z
LAST-MODIFIED:20250820T123232Z
UID:3077-1758931200-1759017599@vaalmeander.co.za
SUMMARY:Shade of Spring
DESCRIPTION:THE INTERSECTION CAR WASH X FLT ENTERTAINMENT PRESENTS\nSHADES OF SPRING\nWITH DJ YOUNG \n\nGPS: 88 CASSANDRA AVENUE BEDWORTHPARK OPPOSITE SHELL FILL-IN STATION The Intersection\n\nFEATURING:\nHOOVER PRETTY CK PREESHAS GEE NELZA THE LOVE DJ EL’DEEP\nKGABO MASTER P\n\nMC: NOMSA NINKIES\nENTRANCE FEE: R 100  LIMITED\n@ GATE R150\n\nBE COLOURFUL \n13:00 TILL LATE\n\n FOOD ALCOHOL AVAILABLE SOLD\n COOLER BOX R60 BEFORE 16:00\n\nPLEASE JOIN US  BROTHERS AND SISTERS FOR SOUL AND RNB SINGALONGS
URL:https://vaalmeander.co.za/event/shade-of-spring/
LOCATION:Gauteng
CATEGORIES:Festivals and Parties
ATTACH;FMTTYPE=image/jpeg:https://vaalmeander.co.za/wp-content/uploads/2025/08/Shaed-of-Spring.jpg
END:VEVENT
BEGIN:VEVENT
DTSTART;VALUE=DATE:20250924
DTEND;VALUE=DATE:20250925
DTSTAMP:20260422T135359
CREATED:20250916T080139Z
LAST-MODIFIED:20250916T081156Z
UID:3111-1758672000-1758758399@vaalmeander.co.za
SUMMARY:The Anchorage: Heritage Day
DESCRIPTION:IT’S HERITAGE DAY AT THE ANCHORAGE! \nGet ready for the ultimate Spitbraai experience! This September\, we’re celebrating our heritage the best way we know how – around the fire with a feast fit for a king.We’re firing up the spit for a mouth-watering menu that’s pure South African magic:\n THE SPIT:Whole Pork Leg: Slow-roasted and basted with a sweet & sticky apricot glaze.Peri-Peri Chicken: Free-range chickens basted with our signature fiery peri-peri sauce.\n FROM UNDER THE SPIT:“Onder die Spit-Bredie”: A flavourful stew of boerewors\, tomatoes\, rosemary\, garlic\, onions\, carrots and potatoes\, cooked slow in the dripping fat. (You HAVE to try this!)\nSIDES:Pap & Sous Bar with creamy mieliepap\, tomato & onion sauce\, and spicy chakalaka.Grilled Mielies with garlic butter.Fresh Green Salad with lettuce\, cucumber\, and avo.\n FOR THE KIDDOS:We’ll have stokbrood ready for the little ones to make their own over the fire! (And pieces of boerewors to add in\, of course).\n DESSERT:The classic taste of home: creamy\, decadent Milktart.\n DATE: Wednesday 24 September 2025 WHERE: The Anchorage PRICE: R195 per person / Kids under 12 half price / Under 3 eat free.\nSpaces are limited! Book your spot now and don’t miss out.\n CALL OR WHATSAPP TO BOOK: 067 851 8400 | 076 800 7504
URL:https://vaalmeander.co.za/event/the-anchorage-heritage-day/
LOCATION:The Anchorage\, 11 Ring Road West\, Vaal Dam\, Gauteng\, 1945\, South Africa
CATEGORIES:Festivals and Parties,Special Occasions
ATTACH;FMTTYPE=image/jpeg:https://vaalmeander.co.za/wp-content/uploads/2025/09/The-Anchorage-Heritage-Day.jpg
END:VEVENT
BEGIN:VEVENT
DTSTART;TZID=Europe/Helsinki:20250913T100000
DTEND;TZID=Europe/Helsinki:20250913T180000
DTSTAMP:20260422T135359
CREATED:20250825T104328Z
LAST-MODIFIED:20250825T115910Z
UID:3080-1757757600-1757786400@vaalmeander.co.za
SUMMARY:Vaal Resort The first Annual Colour Splash
DESCRIPTION:Location – Vaal esorts R82 Road (Where Koppisol used to be)
URL:https://vaalmeander.co.za/event/vaal-resort-the-first-annual-colour-splash/
LOCATION:Vaal Resorts\, Portion 208 of the farm\, Vlakfontein 546 R82\,\, Vereeniging\, Gauteng\, 1980\, South Africa
CATEGORIES:Festivals and Parties
ATTACH;FMTTYPE=image/jpeg:https://vaalmeander.co.za/wp-content/uploads/2025/08/Vaal-Resort-The-first-Annual-Colour-Splash.jpg
END:VEVENT
BEGIN:VEVENT
DTSTART;TZID=Europe/Helsinki:20250907T100000
DTEND;TZID=Europe/Helsinki:20250908T000000
DTSTAMP:20260422T135359
CREATED:20250813T093402Z
LAST-MODIFIED:20250813T094439Z
UID:3020-1757239200-1757289600@vaalmeander.co.za
SUMMARY:All White Soul Session
DESCRIPTION:Soul performances by various artists and DJ’s! Come and enjoy the day with us! \nTickets available at Webtickets\, Boxer and Pick ‘n Pay
URL:https://vaalmeander.co.za/event/all-white-soul-session/
LOCATION:Kgalala Palace\, 26 Lamont Park\, Louisrus\, Vanderbijlpark\, Gauteng\, 1911\, South Africa
CATEGORIES:Festivals and Parties
ATTACH;FMTTYPE=image/jpeg:https://vaalmeander.co.za/wp-content/uploads/2025/08/530658481_1388824926576006_8032410888137293647_n.jpg
END:VEVENT
BEGIN:VEVENT
DTSTART;TZID=Europe/Helsinki:20250901T150000
DTEND;TZID=Europe/Helsinki:20250907T180000
DTSTAMP:20260422T135359
CREATED:20250812T103857Z
LAST-MODIFIED:20250812T110257Z
UID:3005-1756738800-1757268000@vaalmeander.co.za
SUMMARY:Parys Alle Ras Skou
DESCRIPTION:Kom kuier saam by die Parys Alle Ras Skou!Van 1 tot 5 September 2025 verander die Parys AfriDome in ’n fees van vee\, kompetisie en plaaspret vir die hele gesin. Met bees-\, kleinvee-\, pluimvee-\, perd- en konynskoue\, asook die Brahman Nasionale Veiling op Vrydag 5 September\, is daar iets vir elke boer\, diereliefhebber en avonturier.\nMoet dit nie misloop nie – dis ’n boerebelewenis van formaat!
URL:https://vaalmeander.co.za/event/parys-alle-ras-skou/
LOCATION:Afridome South Africa\, 4 Allenby Street\, Parys\, Free State\, 9585
CATEGORIES:Animal and Pet Lovers,Festivals and Parties,Market and Expo Days
ATTACH;FMTTYPE=image/jpeg:https://vaalmeander.co.za/wp-content/uploads/2025/08/518202601_1285369266924299_1921152318606492904_n.jpg
END:VEVENT
BEGIN:VEVENT
DTSTART;TZID=Europe/Helsinki:20250830T120000
DTEND;TZID=Europe/Helsinki:20250830T230000
DTSTAMP:20260422T135359
CREATED:20250813T130255Z
LAST-MODIFIED:20250813T130626Z
UID:3036-1756555200-1756594800@vaalmeander.co.za
SUMMARY:3 Anchors Lifestyle: Petals and Pine Picnic
DESCRIPTION:Let us celebrate Women’s Day together! \nTickets – R200 p/p\nRVSP on WhatsApp – 076 742 3778\nOR Call – 069 125 3539
URL:https://vaalmeander.co.za/event/3-anchors-lifestyle-petals-and-pine-picnic/
LOCATION:3 Anchors Lifstyle\, Stokkiesdraai Road\, 32 Northdene\, Vanderbijlpark\, Gauteng\, 1913\, South Africa
CATEGORIES:Festivals and Parties,Special Occasions
ATTACH;FMTTYPE=image/jpeg:https://vaalmeander.co.za/wp-content/uploads/2025/08/3-Anchors-Lifestyle-event-Petals-and-Pine-Picnic-and-the-Vaal-Meander.jpg
END:VEVENT
BEGIN:VEVENT
DTSTART;VALUE=DATE:20250830
DTEND;VALUE=DATE:20250901
DTSTAMP:20260422T135359
CREATED:20250806T094141Z
LAST-MODIFIED:20250806T094141Z
UID:2992-1756512000-1756684799@vaalmeander.co.za
SUMMARY:Henley WAM Festival(Wine\, Art\, Music)
DESCRIPTION:🍷 Weekend pass R170 gets you wine tastings at ALL venues + a FREE festival wine glass — valid for both 30 & 31 August!\nEarly Bird Tickets: R150 valid until 15 August ’25. \nJoin at the following Venues:\n– Merchant Business Class Hotel\n– Taste Budz\n– About time Gift & Coffee Shop\n– Molly’s Speakeasy Village Restaurant\n– Trattoria Ponte Vecchia 1904\n– Bass Lake \n🎨🍷🎶 Book now 👉 https://qkt.io/3DCoYk
URL:https://vaalmeander.co.za/event/henley-wam-festivalwine-art-music/
LOCATION:Gauteng
CATEGORIES:Festivals and Parties,Food and Drink Pairing
ATTACH;FMTTYPE=image/jpeg:https://vaalmeander.co.za/wp-content/uploads/2025/08/WAM-Festival-Wine-Art-Music-in-the-Vaal-Meander.jpg
ORGANIZER;CN="Henley WAM":MAILTO:info@henley-wam.co.za
END:VEVENT
BEGIN:VEVENT
DTSTART;VALUE=DATE:20250830
DTEND;VALUE=DATE:20250831
DTSTAMP:20260422T135359
CREATED:20250716T113729Z
LAST-MODIFIED:20250716T113729Z
UID:2940-1756512000-1756598399@vaalmeander.co.za
SUMMARY:Emerald Casino: Vaal Kota Festival
DESCRIPTION:VAAL KOTA Lovers  Do join us yet again for a Family Day on the 30th of August 2025. We are bringing All Kasi KOTA Flavors from around Vaal to Emerald Resort & Casino\, it is the Vaal Kota Festival powered by Albany Bread!!\nThis is a full jam pack show\, featuring well known artists But KOTA is the focus of the day. Kids section will also be available on the day with its own entertainment including giant slides\, jumping castle\, Playstations\, bumpy rides\, rock climbing\, etc.
URL:https://vaalmeander.co.za/event/emerald-casino-vaal-kota-festival/
LOCATION:Emerald Resort & Casino\, 777 Frikkie Meyer Blvd\, Vanderbijlpark\, Gauteng\, 1911
CATEGORIES:Festivals and Parties
ATTACH;FMTTYPE=image/jpeg:https://vaalmeander.co.za/wp-content/uploads/2025/07/Vaal-Kota-fest-and-the-Vaal-Meander.jpg
END:VEVENT
BEGIN:VEVENT
DTSTART;VALUE=DATE:20250829
DTEND;VALUE=DATE:20250831
DTSTAMP:20260422T135359
CREATED:20250715T084057Z
LAST-MODIFIED:20250715T090417Z
UID:2896-1756425600-1756598399@vaalmeander.co.za
SUMMARY:Klipdraai Karavaanpark: Rumoer Fees 2025
DESCRIPTION:
URL:https://vaalmeander.co.za/event/klipdraai-karavaanpark-rumoer-fees-2025/
LOCATION:Klipdraai Karavaanpark\, C/o View Avenue & Kort Street\, Meyerton\, Gauteng\, 1961\, South Africa
CATEGORIES:Festivals and Parties
ATTACH;FMTTYPE=image/jpeg:https://vaalmeander.co.za/wp-content/uploads/2025/07/Klipdraai-Karavaan-Park-Event.jpg
END:VEVENT
BEGIN:VEVENT
DTSTART;TZID=Europe/Helsinki:20250816T200000
DTEND;TZID=Europe/Helsinki:20250816T230000
DTSTAMP:20260422T135359
CREATED:20250716T091552Z
LAST-MODIFIED:20250716T091552Z
UID:2905-1755374400-1755385200@vaalmeander.co.za
SUMMARY:CINEMA Live! And An 80's After Party!
DESCRIPTION:Get ready for a night of pure nostalgia as Cinema\, the legendary South African band that shaped the music scene of the 80s and 90s\, takes the stage at Barnyard Vereeniging! \nSing along to their timeless hits and relive the magic of an unforgettable era. And the fun doesn’t stop there—join us for an epic 80s After Party to keep the vibes going! \nBook your tickets now and don’t miss this blast from the past! \n 
URL:https://vaalmeander.co.za/event/cinema-live-and-an-80s-after-party/
LOCATION:Barnyard Vereeniging\, Cnr General Hertzog and Club Street\, Peacehaven\, Peacehaven\, Gauteng\, 1939
CATEGORIES:Festivals and Parties,Live Performances
ATTACH;FMTTYPE=image/png:https://vaalmeander.co.za/wp-content/uploads/2025/07/Cinema-FB-Event-16-Aug-25.png
END:VEVENT
BEGIN:VEVENT
DTSTART;VALUE=DATE:20250809
DTEND;VALUE=DATE:20250811
DTSTAMP:20260422T135359
CREATED:20250717T075942Z
LAST-MODIFIED:20250717T081553Z
UID:2959-1754697600-1754870399@vaalmeander.co.za
SUMMARY:Klipdraai Karavaan Park: Kamp Koors
DESCRIPTION:
URL:https://vaalmeander.co.za/event/klipdraai-karavaan-park-kamp-koors/
LOCATION:Klipdraai Karavaanpark\, C/o View Avenue & Kort Street\, Meyerton\, Gauteng\, 1961\, South Africa
CATEGORIES:Festivals and Parties
ATTACH;FMTTYPE=image/jpeg:https://vaalmeander.co.za/wp-content/uploads/2025/07/Klipdraai-Karaavanpark-event-and-the-Vaal-Meander-copy-copy.jpg
END:VEVENT
BEGIN:VEVENT
DTSTART;TZID=Europe/Helsinki:20250802T110000
DTEND;TZID=Europe/Helsinki:20250802T180000
DTSTAMP:20260422T135359
CREATED:20250716T112632Z
LAST-MODIFIED:20250716T112834Z
UID:2935-1754132400-1754157600@vaalmeander.co.za
SUMMARY:Swagga Brewery: Craft Market
DESCRIPTION:
URL:https://vaalmeander.co.za/event/swagga-brewery-craft-market/
LOCATION:Swagga Breweries\, 42 Bosbok Street Meyerton 1961\, Meyerton\, Gauteng\, 1961\, South Africa
CATEGORIES:Festivals and Parties,Market and Expo Days
ATTACH;FMTTYPE=image/jpeg:https://vaalmeander.co.za/wp-content/uploads/2025/07/Swagga-Breweries-Vinyl-Fair.jpg
END:VEVENT
BEGIN:VEVENT
DTSTART;TZID=Europe/Helsinki:20250705T100000
DTEND;TZID=Europe/Helsinki:20250705T200000
DTSTAMP:20260422T135359
CREATED:20250627T094935Z
LAST-MODIFIED:20250627T100932Z
UID:2857-1751709600-1751745600@vaalmeander.co.za
SUMMARY:Bonfire and Sherry Festival
DESCRIPTION:Join us for our annual Centurions MC Vaal Bonfire & Sherry Festival. We promise the biggest bonfire in the Vaal!\nAwesome music and entertainment and enough OBS for a cold winters day.\n\n\n 
URL:https://vaalmeander.co.za/event/bonfire-and-sherry-festival/
LOCATION:Centurions Clubhouse\, Shakespear Str\, Vanderbijlpark\, Gauteng\, 1911\, South Africa
CATEGORIES:Festivals and Parties
ATTACH;FMTTYPE=image/jpeg:https://vaalmeander.co.za/wp-content/uploads/2025/06/494222100_1222066676593157_1933849495629765354_n.jpg
END:VEVENT
BEGIN:VEVENT
DTSTART;TZID=Europe/Helsinki:20250704T180000
DTEND;TZID=Europe/Helsinki:20250704T200000
DTSTAMP:20260422T135359
CREATED:20250627T104056Z
LAST-MODIFIED:20250627T104056Z
UID:2875-1751652000-1751659200@vaalmeander.co.za
SUMMARY:Biltong en Brood Aand
DESCRIPTION:Kom kuier saam met Hervormde Kerk Drie Riviere-Oos vir ‘n heerlike aand vol musiek met Fran @ Kie van Pretoria\, lekker kuier en natuurlik – biltong & brood!
URL:https://vaalmeander.co.za/event/biltong-en-brood-aand/
LOCATION:Barnyard Vereeniging\, Cnr General Hertzog and Club Street\, Peacehaven\, Peacehaven\, Gauteng\, 1939
CATEGORIES:Festivals and Parties,Live Performances
ATTACH;FMTTYPE=image/png:https://vaalmeander.co.za/wp-content/uploads/2025/06/Biltong-Brood-Event.png
END:VEVENT
BEGIN:VEVENT
DTSTART;VALUE=DATE:20250628
DTEND;VALUE=DATE:20250629
DTSTAMP:20260422T135359
CREATED:20250520T075617Z
LAST-MODIFIED:20250520T075617Z
UID:2783-1751068800-1751155199@vaalmeander.co.za
SUMMARY:Vleis Fees at Harry's Pub (Vanderbijlpark)
DESCRIPTION:
URL:https://vaalmeander.co.za/event/vleis-fees-at-harrys-pub-vanderbijlpark/
LOCATION:Die Veiling Vanderbijlpark (Harry’s Butchery)\, 59 Rietspruit\, Lochvaal\, Sasolburg\, Gauteng\, 1910\, South Africa
CATEGORIES:Festivals and Parties
ATTACH;FMTTYPE=image/jpeg:https://vaalmeander.co.za/wp-content/uploads/2025/05/Die-Vieling-vliesfees.jpg
END:VEVENT
BEGIN:VEVENT
DTSTART;VALUE=DATE:20250614
DTEND;VALUE=DATE:20250615
DTSTAMP:20260422T135359
CREATED:20250520T084654Z
LAST-MODIFIED:20250520T084654Z
UID:2800-1749859200-1749945599@vaalmeander.co.za
SUMMARY:Rising Fest at the Emerald Casino
DESCRIPTION:
URL:https://vaalmeander.co.za/event/rising-fest-at-the-emerald-casino/
LOCATION:Emerald Resort & Casino\, 777 Frikkie Meyer Blvd\, Vanderbijlpark\, Gauteng\, 1911
CATEGORIES:Festivals and Parties
ATTACH;FMTTYPE=image/jpeg:https://vaalmeander.co.za/wp-content/uploads/2025/05/Rising-fest-at-the-Emerald.jpg
END:VEVENT
BEGIN:VEVENT
DTSTART;VALUE=DATE:20250612
DTEND;VALUE=DATE:20250616
DTSTAMP:20260422T135359
CREATED:20250520T084847Z
LAST-MODIFIED:20250520T084847Z
UID:2803-1749686400-1750031999@vaalmeander.co.za
SUMMARY:School Expo at the Vaal Mall
DESCRIPTION:
URL:https://vaalmeander.co.za/event/school-expo-at-the-vaal-mall/
LOCATION:Gauteng
CATEGORIES:Festivals and Parties
ATTACH;FMTTYPE=image/jpeg:https://vaalmeander.co.za/wp-content/uploads/2025/05/School-expo-at-The-Vaal-Mall.jpg
END:VEVENT
BEGIN:VEVENT
DTSTART;TZID=Europe/Helsinki:20250510T090000
DTEND;TZID=Europe/Helsinki:20250510T130000
DTSTAMP:20260422T135359
CREATED:20250430T100709Z
LAST-MODIFIED:20250430T100709Z
UID:2742-1746867600-1746882000@vaalmeander.co.za
SUMMARY:Colour Festival
DESCRIPTION:With DJ Small Fish \n\nGET READY TO SHOW OFF YOUR RAINBOW COLOURS\n\n\nGET READY FOR A FUN FILLED EVENT\nThere’s gonna be lots of activities\, music and games\n\n\nSTALLS AVAILABLE\n\nTickets: R50pp      VIP Tickets: R250pp \n 
URL:https://vaalmeander.co.za/event/colour-festival/
LOCATION:Kanguru Institute\, 43 Garthview Road\, Garthdale\, Kliprivier\, Midvaal\, Gauteng\, 1949\, South Africa
CATEGORIES:Festivals and Parties,Fundraiser and Charity,Market and Expo Days
ATTACH;FMTTYPE=image/jpeg:https://vaalmeander.co.za/wp-content/uploads/2025/04/480635390_961050339474890_2144026544687355931_n.jpg
END:VEVENT
BEGIN:VEVENT
DTSTART;TZID=Europe/Helsinki:20250426T120000
DTEND;TZID=Europe/Helsinki:20250426T120000
DTSTAMP:20260422T135359
CREATED:20250120T085042Z
LAST-MODIFIED:20250319T072756Z
UID:2483-1745668800-1745668800@vaalmeander.co.za
SUMMARY:Harry's Pub Die Veiling Country Fees
DESCRIPTION:Country Fees Alert! 26 APRIL – Dis ‘n Hier kom ‘n ding! soort van dag in Sasolburg!  Steve Hofmeyr LIVE! WIE sing nog almal saam met Steve? Vat ’n raai…  Baie groot name! – Bly ingeskakel om uit te vind wie nog die verhoog gaan rock!\n H.F. Verwoerd Rd\, Sportgronde\, Sasolburg Ingang: R200 p.p Bespreek nou! 072 409 2461\nTickets loop vinnig uit – moenie jou kans mis nie!
URL:https://vaalmeander.co.za/event/harrys-pub-die-veiling-country-fees/
LOCATION:Die Veiling Pub Sasolburg\, 10 HF Verwoerd Road\, Sasolburg\, Free State\, 1895\, South Africa
CATEGORIES:Festivals and Parties,Live Performances
ATTACH;FMTTYPE=image/jpeg:https://vaalmeander.co.za/wp-content/uploads/2025/01/Country-fees-Steve-Hofmeyer-Harrys-Pub.jpg
END:VEVENT
BEGIN:VEVENT
DTSTART;VALUE=DATE:20250419
DTEND;VALUE=DATE:20250420
DTSTAMP:20260422T135359
CREATED:20250417T120837Z
LAST-MODIFIED:20250417T121029Z
UID:2728-1745020800-1745107199@vaalmeander.co.za
SUMMARY:Klipdraai Karavanpark: Paasfees Pret
DESCRIPTION:
URL:https://vaalmeander.co.za/event/klipdraai-karavanpark-paasfees-pret/
LOCATION:Klipdraai Karavaanpark\, C/o View Avenue & Kort Street\, Meyerton\, Gauteng\, 1961\, South Africa
CATEGORIES:Festivals and Parties,Live Performances
ATTACH;FMTTYPE=image/jpeg:https://vaalmeander.co.za/wp-content/uploads/2025/04/Passfees-Klipdraai-and-the-Vaal-Meander.jpg
END:VEVENT
BEGIN:VEVENT
DTSTART;VALUE=DATE:20250329
DTEND;VALUE=DATE:20250330
DTSTAMP:20260422T135359
CREATED:20241010T094822Z
LAST-MODIFIED:20241010T094822Z
UID:1741-1743206400-1743292799@vaalmeander.co.za
SUMMARY:Rocking the Vaal
DESCRIPTION:
URL:https://vaalmeander.co.za/event/rocking-the-vaal/
LOCATION:Emerald Resort & Casino\, 777 Frikkie Meyer Blvd\, Vanderbijlpark\, Gauteng\, 1911
CATEGORIES:Festivals and Parties
ATTACH;FMTTYPE=image/jpeg:https://vaalmeander.co.za/wp-content/uploads/2024/10/Rocking-the-Vaal-in-the-Vaal-Meander-and-its-beauty.jpg
END:VEVENT
BEGIN:VEVENT
DTSTART;TZID=Europe/Helsinki:20241231T190000
DTEND;TZID=Europe/Helsinki:20250101T010000
DTSTAMP:20260422T135359
CREATED:20241209T103644Z
LAST-MODIFIED:20241209T104756Z
UID:2412-1735671600-1735693200@vaalmeander.co.za
SUMMARY:New Years Party!
DESCRIPTION:DJ Trend! @ The Terrace
URL:https://vaalmeander.co.za/event/new-years-party/
LOCATION:Riviera on Vaal Resort\, 1 Mario Milani Drive\, Vereeniging\, Gauteng\, 1930\, South Africa
CATEGORIES:Festivals and Parties
ATTACH;FMTTYPE=image/jpeg:https://vaalmeander.co.za/wp-content/uploads/2024/12/Riviera-Party-QP.jpg
END:VEVENT
BEGIN:VEVENT
DTSTART;TZID=Europe/Helsinki:20241231T170000
DTEND;TZID=Europe/Helsinki:20250101T010000
DTSTAMP:20260422T135359
CREATED:20241119T105625Z
LAST-MODIFIED:20241119T105625Z
UID:2374-1735664400-1735693200@vaalmeander.co.za
SUMMARY:New Years Eve Color Fest
DESCRIPTION:Ring in the New Year with a Splash of Color at The Braai Wagon!\nJoin us on December 31st for a night of delicious food\, vibrant colors\, and unforgettable memories as we celebrate New Year’s Eve like never before! Our Color Fest is sure to light up the night\, with music\, food\, and good vibes in abundance.\nA feast of mouth-watering dishesSignature cocktails and refreshing drinksA color fest celebration to paint the nightDress Code: Wear something white and be ready to get colorful!Don’t miss out on the most colorful New Year’s Eve party in town! Grab your friends\, bring your energy\, and let’s start the New Year with a bang!
URL:https://vaalmeander.co.za/event/new-years-eve-color-fest/
LOCATION:The Braai Wagon\, Brandmuller Dr\, Three Rivers\, Vereeniging\, Gauteng\, 1935\, South Africa
CATEGORIES:Festivals and Parties
ATTACH;FMTTYPE=image/jpeg:https://vaalmeander.co.za/wp-content/uploads/2024/11/465593574_410330798797195_4534721086282898550_n.jpg
END:VEVENT
BEGIN:VEVENT
DTSTART;TZID=Europe/Helsinki:20241224T100000
DTEND;TZID=Europe/Helsinki:20241225T020000
DTSTAMP:20260422T135359
CREATED:20241119T090125Z
LAST-MODIFIED:20241119T090125Z
UID:2370-1735034400-1735092000@vaalmeander.co.za
SUMMARY:Colours of Love
DESCRIPTION:Colours of Love Festival\nFt. Seesco • Banger Boyz • Legoody •DJ Fantas •DJ Lebza\nTicket are available at your nearest Shoprite:Checkers :\n1. Phase 1: R120 (10 Oct -08 Dec)2. Phase 2: R150(08 Dec-23 Dec) 3. At the Gate: R2004. VIP: R300 5. Cooler Box: R70
URL:https://vaalmeander.co.za/event/colours-of-love/
LOCATION:Mimosa Gardens Parys\, Kruis Street\, Parys\, Free State\, 9585\, South Africa
CATEGORIES:Festivals and Parties
ATTACH;FMTTYPE=image/jpeg:https://vaalmeander.co.za/wp-content/uploads/2024/11/466087303_9129011300463708_4491299985265151876_n.jpg
END:VEVENT
BEGIN:VEVENT
DTSTART;TZID=Europe/Helsinki:20241214T110000
DTEND;TZID=Europe/Helsinki:20241214T180000
DTSTAMP:20260422T135359
CREATED:20241010T101252Z
LAST-MODIFIED:20241010T101527Z
UID:1760-1734174000-1734199200@vaalmeander.co.za
SUMMARY:Show Off Your Ride Vaal Edition
DESCRIPTION:Join us at the Autobarn Parts-People SHOW OFF YOUR RIDE Vaal Edition Motoring Festival 2024 at Emerald Resort & Casino on 14 December 2024!\nGet ready for thrilling spinning stunts\, an incredible indoor car sound competition\, stunning show cars\, and much more!\n\nEntertainment Line-up:\n Driftkhana\n Spinning\n IASCA Car Sound Competition\n Stance Show Cars\n Show n Shine\n Exhibitors\n Food Court\n Beer Garden\n DJs\n Car Dealerships\n\n\nEvent Details:\nGates open at 10:00 AM\nEntry: R150 per person at the gate or R120 per person on Webtickets\nKids under 13 enter free!\nTicket sales start on 25 October 2024 \nFeel free to bring non-branded gazebos\, umbrellas\, and camping chairs!\n\nInterested in showcasing your ride or becoming a vendor? Email us at info.teamsupersonic@gmail.com for more information and to secure your spot.\n\nDon’t miss out on this epic event! We can’t wait to see you there!\nRight of admission reserved.
URL:https://vaalmeander.co.za/event/show-off-your-ride-vaal-edition/
LOCATION:Emerald Resort & Casino\, 777 Frikkie Meyer Blvd\, Vanderbijlpark\, Gauteng\, 1911
CATEGORIES:Festivals and Parties
ATTACH;FMTTYPE=image/jpeg:https://vaalmeander.co.za/wp-content/uploads/2024/10/Show-Off-Your-Ride.jpg
END:VEVENT
BEGIN:VEVENT
DTSTART;TZID=Europe/Helsinki:20241201T123000
DTEND;TZID=Europe/Helsinki:20241201T220000
DTSTAMP:20260422T135359
CREATED:20241118T094239Z
LAST-MODIFIED:20241118T094239Z
UID:2341-1733056200-1733090400@vaalmeander.co.za
SUMMARY:World AIDS Day Celebration & Launch
DESCRIPTION:World Aids Day Celebration! Music by Sedibeng Massive Singers\, Vaal Male Singers\, Boitumelo Gospel Choir and Hosea Makoya Music Dev. Earlybird tickets: R80 and R100 at the door. 12:30 @ Eldorado Community Art Center (Sebokeng Zone 14)
URL:https://vaalmeander.co.za/event/world-aids-day-celebration-launch/
LOCATION:Eldorado Community Art Center\, Eldorado Community Art's Centre\, 19115\, Sebokeng Unit 14\, \,\, Sebokeng\, Gauteng\, 1983\, South Africa
CATEGORIES:Festivals and Parties,Live Performances,Special Occasions
ATTACH;FMTTYPE=image/jpeg:https://vaalmeander.co.za/wp-content/uploads/2024/11/d56b487062e57ebc94336d656021c7c314abd4b8780cac09c0dac5f282c3e9f8-rimg-w1080-h1080-dc020201-gmir.jpg
END:VEVENT
BEGIN:VEVENT
DTSTART;TZID=Europe/Helsinki:20241130T100000
DTEND;TZID=Europe/Helsinki:20241130T200000
DTSTAMP:20260422T135359
CREATED:20241018T080129Z
LAST-MODIFIED:20241018T080718Z
UID:2257-1732960800-1732996800@vaalmeander.co.za
SUMMARY:Hoop op loop vir Mnr Jerry - Fondsinsameling.
DESCRIPTION:Optredes deur:\nJohnnie Takbok\,\nRNK\nVictor Bravo\n3Hoek\nLee Luka\nJaco Drotschie\nDJ Jaco \nKos Stalletjies\nUitstallers\nSpringkastele\nGesig Verf\nEn Meer. \nToegang: R50 pp\nKinders onder 10 jaar gratis.
URL:https://vaalmeander.co.za/event/hoop-op-loop-vir-mnr-jerry-fondsinsameling/
LOCATION:Singles Pub & Grill & Function.\, Plot 14\, McKay Estate\, Risiville\, Meyerton\, 1929\, Vereeniging\, Gauteng\, 1911\, South Africa
CATEGORIES:Festivals and Parties
ATTACH;FMTTYPE=image/jpeg:https://vaalmeander.co.za/wp-content/uploads/2024/10/Singles-pub-and-grill.jpg
END:VEVENT
END:VCALENDAR