BEGIN:VCALENDAR
VERSION:2.0
PRODID:-//Vaal Meander - ECPv6.15.20//NONSGML v1.0//EN
CALSCALE:GREGORIAN
METHOD:PUBLISH
X-WR-CALNAME:Vaal Meander
X-ORIGINAL-URL:https://vaalmeander.co.za
X-WR-CALDESC:Events for Vaal Meander
REFRESH-INTERVAL;VALUE=DURATION:PT1H
X-Robots-Tag:noindex
X-PUBLISHED-TTL:PT1H
BEGIN:VTIMEZONE
TZID:Europe/Helsinki
BEGIN:DAYLIGHT
TZOFFSETFROM:+0200
TZOFFSETTO:+0300
TZNAME:EEST
DTSTART:20230326T010000
END:DAYLIGHT
BEGIN:STANDARD
TZOFFSETFROM:+0300
TZOFFSETTO:+0200
TZNAME:EET
DTSTART:20231029T010000
END:STANDARD
BEGIN:DAYLIGHT
TZOFFSETFROM:+0200
TZOFFSETTO:+0300
TZNAME:EEST
DTSTART:20240331T010000
END:DAYLIGHT
BEGIN:STANDARD
TZOFFSETFROM:+0300
TZOFFSETTO:+0200
TZNAME:EET
DTSTART:20241027T010000
END:STANDARD
BEGIN:DAYLIGHT
TZOFFSETFROM:+0200
TZOFFSETTO:+0300
TZNAME:EEST
DTSTART:20250330T010000
END:DAYLIGHT
BEGIN:STANDARD
TZOFFSETFROM:+0300
TZOFFSETTO:+0200
TZNAME:EET
DTSTART:20251026T010000
END:STANDARD
END:VTIMEZONE
BEGIN:VEVENT
DTSTART;TZID=Europe/Helsinki:20241224T100000
DTEND;TZID=Europe/Helsinki:20241225T020000
DTSTAMP:20260423T150337
CREATED:20241119T090125Z
LAST-MODIFIED:20241119T090125Z
UID:2370-1735034400-1735092000@vaalmeander.co.za
SUMMARY:Colours of Love
DESCRIPTION:Colours of Love Festival\nFt. Seesco • Banger Boyz • Legoody •DJ Fantas •DJ Lebza\nTicket are available at your nearest Shoprite:Checkers :\n1. Phase 1: R120 (10 Oct -08 Dec)2. Phase 2: R150(08 Dec-23 Dec) 3. At the Gate: R2004. VIP: R300 5. Cooler Box: R70
URL:https://vaalmeander.co.za/event/colours-of-love/
LOCATION:Mimosa Gardens Parys\, Kruis Street\, Parys\, Free State\, 9585\, South Africa
CATEGORIES:Festivals and Parties
ATTACH;FMTTYPE=image/jpeg:https://vaalmeander.co.za/wp-content/uploads/2024/11/466087303_9129011300463708_4491299985265151876_n.jpg
END:VEVENT
END:VCALENDAR