BEGIN:VCALENDAR
VERSION:2.0
PRODID:-//Vaal Meander - ECPv6.15.20//NONSGML v1.0//EN
CALSCALE:GREGORIAN
METHOD:PUBLISH
X-WR-CALNAME:Vaal Meander
X-ORIGINAL-URL:https://vaalmeander.co.za
X-WR-CALDESC:Events for Vaal Meander
REFRESH-INTERVAL;VALUE=DURATION:PT1H
X-Robots-Tag:noindex
X-PUBLISHED-TTL:PT1H
BEGIN:VTIMEZONE
TZID:Europe/Helsinki
BEGIN:DAYLIGHT
TZOFFSETFROM:+0200
TZOFFSETTO:+0300
TZNAME:EEST
DTSTART:20230326T010000
END:DAYLIGHT
BEGIN:STANDARD
TZOFFSETFROM:+0300
TZOFFSETTO:+0200
TZNAME:EET
DTSTART:20231029T010000
END:STANDARD
BEGIN:DAYLIGHT
TZOFFSETFROM:+0200
TZOFFSETTO:+0300
TZNAME:EEST
DTSTART:20240331T010000
END:DAYLIGHT
BEGIN:STANDARD
TZOFFSETFROM:+0300
TZOFFSETTO:+0200
TZNAME:EET
DTSTART:20241027T010000
END:STANDARD
BEGIN:DAYLIGHT
TZOFFSETFROM:+0200
TZOFFSETTO:+0300
TZNAME:EEST
DTSTART:20250330T010000
END:DAYLIGHT
BEGIN:STANDARD
TZOFFSETFROM:+0300
TZOFFSETTO:+0200
TZNAME:EET
DTSTART:20251026T010000
END:STANDARD
END:VTIMEZONE
BEGIN:VEVENT
DTSTART;TZID=Europe/Helsinki:20241201T123000
DTEND;TZID=Europe/Helsinki:20241201T220000
DTSTAMP:20260423T164055
CREATED:20241118T094239Z
LAST-MODIFIED:20241118T094239Z
UID:2341-1733056200-1733090400@vaalmeander.co.za
SUMMARY:World AIDS Day Celebration & Launch
DESCRIPTION:World Aids Day Celebration! Music by Sedibeng Massive Singers\, Vaal Male Singers\, Boitumelo Gospel Choir and Hosea Makoya Music Dev. Earlybird tickets: R80 and R100 at the door. 12:30 @ Eldorado Community Art Center (Sebokeng Zone 14)
URL:https://vaalmeander.co.za/event/world-aids-day-celebration-launch/
LOCATION:Eldorado Community Art Center\, Eldorado Community Art's Centre\, 19115\, Sebokeng Unit 14\, \,\, Sebokeng\, Gauteng\, 1983\, South Africa
CATEGORIES:Festivals and Parties,Live Performances,Special Occasions
ATTACH;FMTTYPE=image/jpeg:https://vaalmeander.co.za/wp-content/uploads/2024/11/d56b487062e57ebc94336d656021c7c314abd4b8780cac09c0dac5f282c3e9f8-rimg-w1080-h1080-dc020201-gmir.jpg
END:VEVENT
END:VCALENDAR