BEGIN:VCALENDAR
VERSION:2.0
PRODID:-//Vaal Meander - ECPv6.15.20//NONSGML v1.0//EN
CALSCALE:GREGORIAN
METHOD:PUBLISH
X-WR-CALNAME:Vaal Meander
X-ORIGINAL-URL:https://vaalmeander.co.za
X-WR-CALDESC:Events for Vaal Meander
REFRESH-INTERVAL;VALUE=DURATION:PT1H
X-Robots-Tag:noindex
X-PUBLISHED-TTL:PT1H
BEGIN:VTIMEZONE
TZID:Europe/Helsinki
BEGIN:DAYLIGHT
TZOFFSETFROM:+0200
TZOFFSETTO:+0300
TZNAME:EEST
DTSTART:20240331T010000
END:DAYLIGHT
BEGIN:STANDARD
TZOFFSETFROM:+0300
TZOFFSETTO:+0200
TZNAME:EET
DTSTART:20241027T010000
END:STANDARD
BEGIN:DAYLIGHT
TZOFFSETFROM:+0200
TZOFFSETTO:+0300
TZNAME:EEST
DTSTART:20250330T010000
END:DAYLIGHT
BEGIN:STANDARD
TZOFFSETFROM:+0300
TZOFFSETTO:+0200
TZNAME:EET
DTSTART:20251026T010000
END:STANDARD
BEGIN:DAYLIGHT
TZOFFSETFROM:+0200
TZOFFSETTO:+0300
TZNAME:EEST
DTSTART:20260329T010000
END:DAYLIGHT
BEGIN:STANDARD
TZOFFSETFROM:+0300
TZOFFSETTO:+0200
TZNAME:EET
DTSTART:20261025T010000
END:STANDARD
END:VTIMEZONE
BEGIN:VEVENT
DTSTART;TZID=Europe/Helsinki:20250601T090000
DTEND;TZID=Europe/Helsinki:20250601T150000
DTSTAMP:20260421T151953
CREATED:20250520T085901Z
LAST-MODIFIED:20250520T085901Z
UID:2806-1748768400-1748790000@vaalmeander.co.za
SUMMARY:Scrapyard Open Day Photography
DESCRIPTION:Attention all models & TOGs…\nLike so many highly requested here it is.Limited space.\n20 Photographers and 23 ModelIt’s a scrapyard so think out of the box\, glamour or bikini and overalls.Make-up artist and hair stylist available on the dayWe ask that the models who will be using the makeup artist and the makeup artist please be at the location at 8am ready to start so the photographers can start shooting at 10am\n\nFees to attend is non refundable:Models: R150Photographers: R150Guests: R75
URL:https://vaalmeander.co.za/event/scrapyard-open-day-photography/
CATEGORIES:Craft Workshops,Special Occasions
ATTACH;FMTTYPE=image/jpeg:https://vaalmeander.co.za/wp-content/uploads/2025/05/Scrapyard-open-day-photography.jpg
END:VEVENT
END:VCALENDAR