BEGIN:VCALENDAR
VERSION:2.0
PRODID:-//Vaal Meander - ECPv6.15.20//NONSGML v1.0//EN
CALSCALE:GREGORIAN
METHOD:PUBLISH
X-ORIGINAL-URL:https://vaalmeander.co.za
X-WR-CALDESC:Events for Vaal Meander
REFRESH-INTERVAL;VALUE=DURATION:PT1H
X-Robots-Tag:noindex
X-PUBLISHED-TTL:PT1H
BEGIN:VTIMEZONE
TZID:Europe/Helsinki
BEGIN:DAYLIGHT
TZOFFSETFROM:+0200
TZOFFSETTO:+0300
TZNAME:EEST
DTSTART:20240331T010000
END:DAYLIGHT
BEGIN:STANDARD
TZOFFSETFROM:+0300
TZOFFSETTO:+0200
TZNAME:EET
DTSTART:20241027T010000
END:STANDARD
BEGIN:DAYLIGHT
TZOFFSETFROM:+0200
TZOFFSETTO:+0300
TZNAME:EEST
DTSTART:20250330T010000
END:DAYLIGHT
BEGIN:STANDARD
TZOFFSETFROM:+0300
TZOFFSETTO:+0200
TZNAME:EET
DTSTART:20251026T010000
END:STANDARD
BEGIN:DAYLIGHT
TZOFFSETFROM:+0200
TZOFFSETTO:+0300
TZNAME:EEST
DTSTART:20260329T010000
END:DAYLIGHT
BEGIN:STANDARD
TZOFFSETFROM:+0300
TZOFFSETTO:+0200
TZNAME:EET
DTSTART:20261025T010000
END:STANDARD
END:VTIMEZONE
BEGIN:VEVENT
DTSTART;VALUE=DATE:20250503
DTEND;VALUE=DATE:20250504
DTSTAMP:20260422T115659
CREATED:20250417T092059Z
LAST-MODIFIED:20250417T092111Z
UID:2702-1746230400-1746316799@vaalmeander.co.za
SUMMARY:Ultimate Outlaws Racing Event: (Vereeniging)
DESCRIPTION:Gates open at 2pm\, Racing starts at 5pm \nTickets:\nSpectator entry – R50\nKids u/5 Free\nCoolerbox R100
URL:https://vaalmeander.co.za/event/ultimate-outlaws-racing-event-vereeniging/
LOCATION:Ultimate Raceway\, Leeuwkuil Drive\, Vereeniging\, Gauteng\, 1939\, South Africa
CATEGORIES:Sports, Racing, and Gaming
ATTACH;FMTTYPE=image/jpeg:https://vaalmeander.co.za/wp-content/uploads/2025/04/ultimate-Raseway-and-the-Vaal-Meander.jpg
END:VEVENT
BEGIN:VEVENT
DTSTART;TZID=Europe/Helsinki:20250503T090000
DTEND;TZID=Europe/Helsinki:20250503T140000
DTSTAMP:20260422T115659
CREATED:20250430T105155Z
LAST-MODIFIED:20250430T105155Z
UID:2750-1746262800-1746280800@vaalmeander.co.za
SUMMARY:Influencer Meet and Greet
DESCRIPTION:Get ready for an epic TikTok influencer meet and greet event! On May 3\, 2025\, Saturday\, from 9 am to 2 pm\, head over to 14 Voortrekker St\, Vereeniging\, 1930\, and meet your favorite TikTok creators.Event Highlights– Meet and Greet: Interact with over 15 popular TikTok influencers\, take photos\, and get autographs.– Food and Fun: Enjoy a variety of food options at the food stall and take part in exciting activities.– Photobooths: Capture memories with friends and influencers at the photobooths.– Car Displays: Explore the latest models from Volkswagen\, Mazda\, and Proton.– Live Radio Broadcast: Tune in to 90.6 FM for live updates and interviews from the event.TikTok Influencers to ExpectAlthough the specific list of influencers attending the event isn’t available\, some popular TikTok creatorsMark your calendars for May 3\, 2025\, and get ready for an unforgettable experience with your favorite TikTok influencers!
URL:https://vaalmeander.co.za/event/influencer-meet-and-greet/
CATEGORIES:Special Occasions
ATTACH;FMTTYPE=image/jpeg:https://vaalmeander.co.za/wp-content/uploads/2025/04/Team-Vaal-the-Vaal-Meander-1.jpeg
END:VEVENT
BEGIN:VEVENT
DTSTART;TZID=Europe/Helsinki:20250503T170000
DTEND;TZID=Europe/Helsinki:20250503T190000
DTSTAMP:20260422T115659
CREATED:20250417T093653Z
LAST-MODIFIED:20250417T101525Z
UID:2713-1746291600-1746298800@vaalmeander.co.za
SUMMARY:Sokkie & 2 Step
DESCRIPTION:
URL:https://vaalmeander.co.za/event/sokkie-2-step/
CATEGORIES:Special Occasions
ATTACH;FMTTYPE=image/jpeg:https://vaalmeander.co.za/wp-content/uploads/2025/04/Vereeniging-Sokkie-2-Step-and-The-Vaal-Meander.jpg
END:VEVENT
END:VCALENDAR